BEGIN:VCALENDAR
VERSION:2.0
PRODID:-//Veterans Ministry Information Center - ECPv6.15.20//NONSGML v1.0//EN
CALSCALE:GREGORIAN
METHOD:PUBLISH
X-WR-CALNAME:Veterans Ministry Information Center
X-ORIGINAL-URL:https://vmicmaryland.org
X-WR-CALDESC:Events for Veterans Ministry Information Center
REFRESH-INTERVAL;VALUE=DURATION:PT1H
X-Robots-Tag:noindex
X-PUBLISHED-TTL:PT1H
BEGIN:VTIMEZONE
TZID:America/Halifax
BEGIN:DAYLIGHT
TZOFFSETFROM:-0400
TZOFFSETTO:-0300
TZNAME:ADT
DTSTART:20250309T060000
END:DAYLIGHT
BEGIN:STANDARD
TZOFFSETFROM:-0300
TZOFFSETTO:-0400
TZNAME:AST
DTSTART:20251102T050000
END:STANDARD
BEGIN:DAYLIGHT
TZOFFSETFROM:-0400
TZOFFSETTO:-0300
TZNAME:ADT
DTSTART:20260308T060000
END:DAYLIGHT
BEGIN:STANDARD
TZOFFSETFROM:-0300
TZOFFSETTO:-0400
TZNAME:AST
DTSTART:20261101T050000
END:STANDARD
BEGIN:DAYLIGHT
TZOFFSETFROM:-0400
TZOFFSETTO:-0300
TZNAME:ADT
DTSTART:20270314T060000
END:DAYLIGHT
BEGIN:STANDARD
TZOFFSETFROM:-0300
TZOFFSETTO:-0400
TZNAME:AST
DTSTART:20271107T050000
END:STANDARD
END:VTIMEZONE
BEGIN:VEVENT
DTSTART;TZID=America/Halifax:20260421T190000
DTEND;TZID=America/Halifax:20260421T203000
DTSTAMP:20260421T052109
CREATED:20250703T174728Z
LAST-MODIFIED:20250703T175509Z
UID:10000165-1776798000-1776803400@vmicmaryland.org
SUMMARY:Bible Study - Covenant Ministries
DESCRIPTION:
URL:https://vmicmaryland.org/event-2/bible-study/2026-04-21/
LOCATION:Southern Community Center\, 20 Appeal Lane\, Lusby\, Maryland\, 20657
ATTACH;FMTTYPE=image/webp:https://vmicmaryland.org/wp-content/uploads/2025/07/9791b01f-31b2-4635-aebb-f37dec137f76-scaled.webp
END:VEVENT
BEGIN:VEVENT
DTSTART;TZID=America/Halifax:20260428T190000
DTEND;TZID=America/Halifax:20260428T203000
DTSTAMP:20260421T052109
CREATED:20250703T174728Z
LAST-MODIFIED:20250703T175509Z
UID:10000166-1777402800-1777408200@vmicmaryland.org
SUMMARY:Bible Study - Covenant Ministries
DESCRIPTION:
URL:https://vmicmaryland.org/event-2/bible-study/2026-04-28/
LOCATION:Southern Community Center\, 20 Appeal Lane\, Lusby\, Maryland\, 20657
ATTACH;FMTTYPE=image/webp:https://vmicmaryland.org/wp-content/uploads/2025/07/9791b01f-31b2-4635-aebb-f37dec137f76-scaled.webp
END:VEVENT
BEGIN:VEVENT
DTSTART;TZID=America/Halifax:20260505T190000
DTEND;TZID=America/Halifax:20260505T203000
DTSTAMP:20260421T052109
CREATED:20250703T174728Z
LAST-MODIFIED:20250703T175509Z
UID:10000167-1778007600-1778013000@vmicmaryland.org
SUMMARY:Bible Study - Covenant Ministries
DESCRIPTION:
URL:https://vmicmaryland.org/event-2/bible-study/2026-05-05/
LOCATION:Southern Community Center\, 20 Appeal Lane\, Lusby\, Maryland\, 20657
ATTACH;FMTTYPE=image/webp:https://vmicmaryland.org/wp-content/uploads/2025/07/9791b01f-31b2-4635-aebb-f37dec137f76-scaled.webp
END:VEVENT
BEGIN:VEVENT
DTSTART;TZID=America/Halifax:20260512T190000
DTEND;TZID=America/Halifax:20260512T203000
DTSTAMP:20260421T052109
CREATED:20250703T174728Z
LAST-MODIFIED:20250703T175509Z
UID:10000168-1778612400-1778617800@vmicmaryland.org
SUMMARY:Bible Study - Covenant Ministries
DESCRIPTION:
URL:https://vmicmaryland.org/event-2/bible-study/2026-05-12/
LOCATION:Southern Community Center\, 20 Appeal Lane\, Lusby\, Maryland\, 20657
ATTACH;FMTTYPE=image/webp:https://vmicmaryland.org/wp-content/uploads/2025/07/9791b01f-31b2-4635-aebb-f37dec137f76-scaled.webp
END:VEVENT
BEGIN:VEVENT
DTSTART;TZID=America/Halifax:20260519T190000
DTEND;TZID=America/Halifax:20260519T203000
DTSTAMP:20260421T052109
CREATED:20250703T174728Z
LAST-MODIFIED:20250703T175509Z
UID:10000169-1779217200-1779222600@vmicmaryland.org
SUMMARY:Bible Study - Covenant Ministries
DESCRIPTION:
URL:https://vmicmaryland.org/event-2/bible-study/2026-05-19/
LOCATION:Southern Community Center\, 20 Appeal Lane\, Lusby\, Maryland\, 20657
ATTACH;FMTTYPE=image/webp:https://vmicmaryland.org/wp-content/uploads/2025/07/9791b01f-31b2-4635-aebb-f37dec137f76-scaled.webp
END:VEVENT
BEGIN:VEVENT
DTSTART;TZID=America/Halifax:20260526T190000
DTEND;TZID=America/Halifax:20260526T203000
DTSTAMP:20260421T052109
CREATED:20250703T174728Z
LAST-MODIFIED:20250703T175509Z
UID:10000170-1779822000-1779827400@vmicmaryland.org
SUMMARY:Bible Study - Covenant Ministries
DESCRIPTION:
URL:https://vmicmaryland.org/event-2/bible-study/2026-05-26/
LOCATION:Southern Community Center\, 20 Appeal Lane\, Lusby\, Maryland\, 20657
ATTACH;FMTTYPE=image/webp:https://vmicmaryland.org/wp-content/uploads/2025/07/9791b01f-31b2-4635-aebb-f37dec137f76-scaled.webp
END:VEVENT
BEGIN:VEVENT
DTSTART;TZID=America/Halifax:20260602T190000
DTEND;TZID=America/Halifax:20260602T203000
DTSTAMP:20260421T052109
CREATED:20250703T174728Z
LAST-MODIFIED:20250703T175509Z
UID:10000171-1780426800-1780432200@vmicmaryland.org
SUMMARY:Bible Study - Covenant Ministries
DESCRIPTION:
URL:https://vmicmaryland.org/event-2/bible-study/2026-06-02/
LOCATION:Southern Community Center\, 20 Appeal Lane\, Lusby\, Maryland\, 20657
ATTACH;FMTTYPE=image/webp:https://vmicmaryland.org/wp-content/uploads/2025/07/9791b01f-31b2-4635-aebb-f37dec137f76-scaled.webp
END:VEVENT
BEGIN:VEVENT
DTSTART;TZID=America/Halifax:20260609T190000
DTEND;TZID=America/Halifax:20260609T203000
DTSTAMP:20260421T052109
CREATED:20250703T174728Z
LAST-MODIFIED:20250703T175509Z
UID:10000172-1781031600-1781037000@vmicmaryland.org
SUMMARY:Bible Study - Covenant Ministries
DESCRIPTION:
URL:https://vmicmaryland.org/event-2/bible-study/2026-06-09/
LOCATION:Southern Community Center\, 20 Appeal Lane\, Lusby\, Maryland\, 20657
ATTACH;FMTTYPE=image/webp:https://vmicmaryland.org/wp-content/uploads/2025/07/9791b01f-31b2-4635-aebb-f37dec137f76-scaled.webp
END:VEVENT
BEGIN:VEVENT
DTSTART;TZID=America/Halifax:20260616T190000
DTEND;TZID=America/Halifax:20260616T203000
DTSTAMP:20260421T052109
CREATED:20250703T174728Z
LAST-MODIFIED:20250703T175509Z
UID:10000173-1781636400-1781641800@vmicmaryland.org
SUMMARY:Bible Study - Covenant Ministries
DESCRIPTION:
URL:https://vmicmaryland.org/event-2/bible-study/2026-06-16/
LOCATION:Southern Community Center\, 20 Appeal Lane\, Lusby\, Maryland\, 20657
ATTACH;FMTTYPE=image/webp:https://vmicmaryland.org/wp-content/uploads/2025/07/9791b01f-31b2-4635-aebb-f37dec137f76-scaled.webp
END:VEVENT
BEGIN:VEVENT
DTSTART;TZID=America/Halifax:20260623T190000
DTEND;TZID=America/Halifax:20260623T203000
DTSTAMP:20260421T052109
CREATED:20250703T174728Z
LAST-MODIFIED:20250703T175509Z
UID:10000174-1782241200-1782246600@vmicmaryland.org
SUMMARY:Bible Study - Covenant Ministries
DESCRIPTION:
URL:https://vmicmaryland.org/event-2/bible-study/2026-06-23/
LOCATION:Southern Community Center\, 20 Appeal Lane\, Lusby\, Maryland\, 20657
ATTACH;FMTTYPE=image/webp:https://vmicmaryland.org/wp-content/uploads/2025/07/9791b01f-31b2-4635-aebb-f37dec137f76-scaled.webp
END:VEVENT
BEGIN:VEVENT
DTSTART;TZID=America/Halifax:20260630T190000
DTEND;TZID=America/Halifax:20260630T203000
DTSTAMP:20260421T052109
CREATED:20250703T174728Z
LAST-MODIFIED:20250703T175509Z
UID:10000175-1782846000-1782851400@vmicmaryland.org
SUMMARY:Bible Study - Covenant Ministries
DESCRIPTION:
URL:https://vmicmaryland.org/event-2/bible-study/2026-06-30/
LOCATION:Southern Community Center\, 20 Appeal Lane\, Lusby\, Maryland\, 20657
ATTACH;FMTTYPE=image/webp:https://vmicmaryland.org/wp-content/uploads/2025/07/9791b01f-31b2-4635-aebb-f37dec137f76-scaled.webp
END:VEVENT
BEGIN:VEVENT
DTSTART;TZID=America/Halifax:20260707T190000
DTEND;TZID=America/Halifax:20260707T203000
DTSTAMP:20260421T052109
CREATED:20250703T174728Z
LAST-MODIFIED:20250703T175509Z
UID:10000176-1783450800-1783456200@vmicmaryland.org
SUMMARY:Bible Study - Covenant Ministries
DESCRIPTION:
URL:https://vmicmaryland.org/event-2/bible-study/2026-07-07/
LOCATION:Southern Community Center\, 20 Appeal Lane\, Lusby\, Maryland\, 20657
ATTACH;FMTTYPE=image/webp:https://vmicmaryland.org/wp-content/uploads/2025/07/9791b01f-31b2-4635-aebb-f37dec137f76-scaled.webp
END:VEVENT
BEGIN:VEVENT
DTSTART;TZID=America/Halifax:20260714T190000
DTEND;TZID=America/Halifax:20260714T203000
DTSTAMP:20260421T052109
CREATED:20250703T174728Z
LAST-MODIFIED:20250703T175509Z
UID:10000177-1784055600-1784061000@vmicmaryland.org
SUMMARY:Bible Study - Covenant Ministries
DESCRIPTION:
URL:https://vmicmaryland.org/event-2/bible-study/2026-07-14/
LOCATION:Southern Community Center\, 20 Appeal Lane\, Lusby\, Maryland\, 20657
ATTACH;FMTTYPE=image/webp:https://vmicmaryland.org/wp-content/uploads/2025/07/9791b01f-31b2-4635-aebb-f37dec137f76-scaled.webp
END:VEVENT
BEGIN:VEVENT
DTSTART;TZID=America/Halifax:20260721T190000
DTEND;TZID=America/Halifax:20260721T203000
DTSTAMP:20260421T052109
CREATED:20250703T174728Z
LAST-MODIFIED:20250703T175509Z
UID:10000178-1784660400-1784665800@vmicmaryland.org
SUMMARY:Bible Study - Covenant Ministries
DESCRIPTION:
URL:https://vmicmaryland.org/event-2/bible-study/2026-07-21/
LOCATION:Southern Community Center\, 20 Appeal Lane\, Lusby\, Maryland\, 20657
ATTACH;FMTTYPE=image/webp:https://vmicmaryland.org/wp-content/uploads/2025/07/9791b01f-31b2-4635-aebb-f37dec137f76-scaled.webp
END:VEVENT
BEGIN:VEVENT
DTSTART;TZID=America/Halifax:20260728T190000
DTEND;TZID=America/Halifax:20260728T203000
DTSTAMP:20260421T052109
CREATED:20250703T174728Z
LAST-MODIFIED:20250703T175509Z
UID:10000179-1785265200-1785270600@vmicmaryland.org
SUMMARY:Bible Study - Covenant Ministries
DESCRIPTION:
URL:https://vmicmaryland.org/event-2/bible-study/2026-07-28/
LOCATION:Southern Community Center\, 20 Appeal Lane\, Lusby\, Maryland\, 20657
ATTACH;FMTTYPE=image/webp:https://vmicmaryland.org/wp-content/uploads/2025/07/9791b01f-31b2-4635-aebb-f37dec137f76-scaled.webp
END:VEVENT
BEGIN:VEVENT
DTSTART;TZID=America/Halifax:20260804T190000
DTEND;TZID=America/Halifax:20260804T203000
DTSTAMP:20260421T052109
CREATED:20250703T174728Z
LAST-MODIFIED:20250703T175509Z
UID:10000180-1785870000-1785875400@vmicmaryland.org
SUMMARY:Bible Study - Covenant Ministries
DESCRIPTION:
URL:https://vmicmaryland.org/event-2/bible-study/2026-08-04/
LOCATION:Southern Community Center\, 20 Appeal Lane\, Lusby\, Maryland\, 20657
ATTACH;FMTTYPE=image/webp:https://vmicmaryland.org/wp-content/uploads/2025/07/9791b01f-31b2-4635-aebb-f37dec137f76-scaled.webp
END:VEVENT
BEGIN:VEVENT
DTSTART;TZID=America/Halifax:20260811T190000
DTEND;TZID=America/Halifax:20260811T203000
DTSTAMP:20260421T052109
CREATED:20250703T174728Z
LAST-MODIFIED:20250703T175509Z
UID:10000181-1786474800-1786480200@vmicmaryland.org
SUMMARY:Bible Study - Covenant Ministries
DESCRIPTION:
URL:https://vmicmaryland.org/event-2/bible-study/2026-08-11/
LOCATION:Southern Community Center\, 20 Appeal Lane\, Lusby\, Maryland\, 20657
ATTACH;FMTTYPE=image/webp:https://vmicmaryland.org/wp-content/uploads/2025/07/9791b01f-31b2-4635-aebb-f37dec137f76-scaled.webp
END:VEVENT
BEGIN:VEVENT
DTSTART;TZID=America/Halifax:20260818T190000
DTEND;TZID=America/Halifax:20260818T203000
DTSTAMP:20260421T052109
CREATED:20250703T174728Z
LAST-MODIFIED:20250703T175509Z
UID:10000182-1787079600-1787085000@vmicmaryland.org
SUMMARY:Bible Study - Covenant Ministries
DESCRIPTION:
URL:https://vmicmaryland.org/event-2/bible-study/2026-08-18/
LOCATION:Southern Community Center\, 20 Appeal Lane\, Lusby\, Maryland\, 20657
ATTACH;FMTTYPE=image/webp:https://vmicmaryland.org/wp-content/uploads/2025/07/9791b01f-31b2-4635-aebb-f37dec137f76-scaled.webp
END:VEVENT
BEGIN:VEVENT
DTSTART;TZID=America/Halifax:20260825T190000
DTEND;TZID=America/Halifax:20260825T203000
DTSTAMP:20260421T052109
CREATED:20250703T174728Z
LAST-MODIFIED:20250703T175509Z
UID:10000183-1787684400-1787689800@vmicmaryland.org
SUMMARY:Bible Study - Covenant Ministries
DESCRIPTION:
URL:https://vmicmaryland.org/event-2/bible-study/2026-08-25/
LOCATION:Southern Community Center\, 20 Appeal Lane\, Lusby\, Maryland\, 20657
ATTACH;FMTTYPE=image/webp:https://vmicmaryland.org/wp-content/uploads/2025/07/9791b01f-31b2-4635-aebb-f37dec137f76-scaled.webp
END:VEVENT
BEGIN:VEVENT
DTSTART;TZID=America/Halifax:20260901T190000
DTEND;TZID=America/Halifax:20260901T203000
DTSTAMP:20260421T052109
CREATED:20250703T174728Z
LAST-MODIFIED:20250703T175509Z
UID:10000184-1788289200-1788294600@vmicmaryland.org
SUMMARY:Bible Study - Covenant Ministries
DESCRIPTION:
URL:https://vmicmaryland.org/event-2/bible-study/2026-09-01/
LOCATION:Southern Community Center\, 20 Appeal Lane\, Lusby\, Maryland\, 20657
ATTACH;FMTTYPE=image/webp:https://vmicmaryland.org/wp-content/uploads/2025/07/9791b01f-31b2-4635-aebb-f37dec137f76-scaled.webp
END:VEVENT
BEGIN:VEVENT
DTSTART;TZID=America/Halifax:20260908T190000
DTEND;TZID=America/Halifax:20260908T203000
DTSTAMP:20260421T052109
CREATED:20250703T174728Z
LAST-MODIFIED:20250703T175509Z
UID:10000185-1788894000-1788899400@vmicmaryland.org
SUMMARY:Bible Study - Covenant Ministries
DESCRIPTION:
URL:https://vmicmaryland.org/event-2/bible-study/2026-09-08/
LOCATION:Southern Community Center\, 20 Appeal Lane\, Lusby\, Maryland\, 20657
ATTACH;FMTTYPE=image/webp:https://vmicmaryland.org/wp-content/uploads/2025/07/9791b01f-31b2-4635-aebb-f37dec137f76-scaled.webp
END:VEVENT
BEGIN:VEVENT
DTSTART;TZID=America/Halifax:20260915T190000
DTEND;TZID=America/Halifax:20260915T203000
DTSTAMP:20260421T052109
CREATED:20250703T174728Z
LAST-MODIFIED:20250703T175509Z
UID:10000186-1789498800-1789504200@vmicmaryland.org
SUMMARY:Bible Study - Covenant Ministries
DESCRIPTION:
URL:https://vmicmaryland.org/event-2/bible-study/2026-09-15/
LOCATION:Southern Community Center\, 20 Appeal Lane\, Lusby\, Maryland\, 20657
ATTACH;FMTTYPE=image/webp:https://vmicmaryland.org/wp-content/uploads/2025/07/9791b01f-31b2-4635-aebb-f37dec137f76-scaled.webp
END:VEVENT
BEGIN:VEVENT
DTSTART;TZID=America/Halifax:20260922T190000
DTEND;TZID=America/Halifax:20260922T203000
DTSTAMP:20260421T052109
CREATED:20250703T174728Z
LAST-MODIFIED:20250703T175509Z
UID:10000187-1790103600-1790109000@vmicmaryland.org
SUMMARY:Bible Study - Covenant Ministries
DESCRIPTION:
URL:https://vmicmaryland.org/event-2/bible-study/2026-09-22/
LOCATION:Southern Community Center\, 20 Appeal Lane\, Lusby\, Maryland\, 20657
ATTACH;FMTTYPE=image/webp:https://vmicmaryland.org/wp-content/uploads/2025/07/9791b01f-31b2-4635-aebb-f37dec137f76-scaled.webp
END:VEVENT
BEGIN:VEVENT
DTSTART;TZID=America/Halifax:20260929T190000
DTEND;TZID=America/Halifax:20260929T203000
DTSTAMP:20260421T052109
CREATED:20250703T174728Z
LAST-MODIFIED:20250703T175509Z
UID:10000188-1790708400-1790713800@vmicmaryland.org
SUMMARY:Bible Study - Covenant Ministries
DESCRIPTION:
URL:https://vmicmaryland.org/event-2/bible-study/2026-09-29/
LOCATION:Southern Community Center\, 20 Appeal Lane\, Lusby\, Maryland\, 20657
ATTACH;FMTTYPE=image/webp:https://vmicmaryland.org/wp-content/uploads/2025/07/9791b01f-31b2-4635-aebb-f37dec137f76-scaled.webp
END:VEVENT
BEGIN:VEVENT
DTSTART;TZID=America/Halifax:20261006T190000
DTEND;TZID=America/Halifax:20261006T203000
DTSTAMP:20260421T052109
CREATED:20250703T174728Z
LAST-MODIFIED:20250703T175509Z
UID:10000189-1791313200-1791318600@vmicmaryland.org
SUMMARY:Bible Study - Covenant Ministries
DESCRIPTION:
URL:https://vmicmaryland.org/event-2/bible-study/2026-10-06/
LOCATION:Southern Community Center\, 20 Appeal Lane\, Lusby\, Maryland\, 20657
ATTACH;FMTTYPE=image/webp:https://vmicmaryland.org/wp-content/uploads/2025/07/9791b01f-31b2-4635-aebb-f37dec137f76-scaled.webp
END:VEVENT
BEGIN:VEVENT
DTSTART;TZID=America/Halifax:20261013T190000
DTEND;TZID=America/Halifax:20261013T203000
DTSTAMP:20260421T052109
CREATED:20250703T174728Z
LAST-MODIFIED:20250703T175509Z
UID:10000190-1791918000-1791923400@vmicmaryland.org
SUMMARY:Bible Study - Covenant Ministries
DESCRIPTION:
URL:https://vmicmaryland.org/event-2/bible-study/2026-10-13/
LOCATION:Southern Community Center\, 20 Appeal Lane\, Lusby\, Maryland\, 20657
ATTACH;FMTTYPE=image/webp:https://vmicmaryland.org/wp-content/uploads/2025/07/9791b01f-31b2-4635-aebb-f37dec137f76-scaled.webp
END:VEVENT
BEGIN:VEVENT
DTSTART;TZID=America/Halifax:20261020T190000
DTEND;TZID=America/Halifax:20261020T203000
DTSTAMP:20260421T052109
CREATED:20250703T174728Z
LAST-MODIFIED:20250703T175509Z
UID:10000191-1792522800-1792528200@vmicmaryland.org
SUMMARY:Bible Study - Covenant Ministries
DESCRIPTION:
URL:https://vmicmaryland.org/event-2/bible-study/2026-10-20/
LOCATION:Southern Community Center\, 20 Appeal Lane\, Lusby\, Maryland\, 20657
ATTACH;FMTTYPE=image/webp:https://vmicmaryland.org/wp-content/uploads/2025/07/9791b01f-31b2-4635-aebb-f37dec137f76-scaled.webp
END:VEVENT
BEGIN:VEVENT
DTSTART;TZID=America/Halifax:20261027T190000
DTEND;TZID=America/Halifax:20261027T203000
DTSTAMP:20260421T052109
CREATED:20250703T174728Z
LAST-MODIFIED:20250703T175509Z
UID:10000192-1793127600-1793133000@vmicmaryland.org
SUMMARY:Bible Study - Covenant Ministries
DESCRIPTION:
URL:https://vmicmaryland.org/event-2/bible-study/2026-10-27/
LOCATION:Southern Community Center\, 20 Appeal Lane\, Lusby\, Maryland\, 20657
ATTACH;FMTTYPE=image/webp:https://vmicmaryland.org/wp-content/uploads/2025/07/9791b01f-31b2-4635-aebb-f37dec137f76-scaled.webp
END:VEVENT
BEGIN:VEVENT
DTSTART;TZID=America/Halifax:20261103T190000
DTEND;TZID=America/Halifax:20261103T203000
DTSTAMP:20260421T052109
CREATED:20250703T174728Z
LAST-MODIFIED:20250703T175509Z
UID:10000193-1793732400-1793737800@vmicmaryland.org
SUMMARY:Bible Study - Covenant Ministries
DESCRIPTION:
URL:https://vmicmaryland.org/event-2/bible-study/2026-11-03/
LOCATION:Southern Community Center\, 20 Appeal Lane\, Lusby\, Maryland\, 20657
ATTACH;FMTTYPE=image/webp:https://vmicmaryland.org/wp-content/uploads/2025/07/9791b01f-31b2-4635-aebb-f37dec137f76-scaled.webp
END:VEVENT
BEGIN:VEVENT
DTSTART;TZID=America/Halifax:20261110T190000
DTEND;TZID=America/Halifax:20261110T203000
DTSTAMP:20260421T052109
CREATED:20250703T174728Z
LAST-MODIFIED:20250703T175509Z
UID:10000194-1794337200-1794342600@vmicmaryland.org
SUMMARY:Bible Study - Covenant Ministries
DESCRIPTION:
URL:https://vmicmaryland.org/event-2/bible-study/2026-11-10/
LOCATION:Southern Community Center\, 20 Appeal Lane\, Lusby\, Maryland\, 20657
ATTACH;FMTTYPE=image/webp:https://vmicmaryland.org/wp-content/uploads/2025/07/9791b01f-31b2-4635-aebb-f37dec137f76-scaled.webp
END:VEVENT
END:VCALENDAR