BEGIN:VCALENDAR
VERSION:2.0
PRODID:-//Veterans Ministry Information Center - ECPv6.15.20//NONSGML v1.0//EN
CALSCALE:GREGORIAN
METHOD:PUBLISH
X-ORIGINAL-URL:https://vmicmaryland.org
X-WR-CALDESC:Events for Veterans Ministry Information Center
REFRESH-INTERVAL;VALUE=DURATION:PT1H
X-Robots-Tag:noindex
X-PUBLISHED-TTL:PT1H
BEGIN:VTIMEZONE
TZID:America/Halifax
BEGIN:DAYLIGHT
TZOFFSETFROM:-0400
TZOFFSETTO:-0300
TZNAME:ADT
DTSTART:20260308T060000
END:DAYLIGHT
BEGIN:STANDARD
TZOFFSETFROM:-0300
TZOFFSETTO:-0400
TZNAME:AST
DTSTART:20261101T050000
END:STANDARD
BEGIN:DAYLIGHT
TZOFFSETFROM:-0400
TZOFFSETTO:-0300
TZNAME:ADT
DTSTART:20270314T060000
END:DAYLIGHT
BEGIN:STANDARD
TZOFFSETFROM:-0300
TZOFFSETTO:-0400
TZNAME:AST
DTSTART:20271107T050000
END:STANDARD
BEGIN:DAYLIGHT
TZOFFSETFROM:-0400
TZOFFSETTO:-0300
TZNAME:ADT
DTSTART:20280312T060000
END:DAYLIGHT
BEGIN:STANDARD
TZOFFSETFROM:-0300
TZOFFSETTO:-0400
TZNAME:AST
DTSTART:20281105T050000
END:STANDARD
END:VTIMEZONE
BEGIN:VEVENT
DTSTART;TZID=America/Halifax:20270403T080000
DTEND;TZID=America/Halifax:20270403T100000
DTSTAMP:20260422T002214
CREATED:20250509T074701Z
LAST-MODIFIED:20250630T133225Z
UID:10000023-1806739200-1806746400@vmicmaryland.org
SUMMARY:Men's Breakfast
DESCRIPTION:Join us every first Saturday of the month in our Fellow Ship hall for a time of good food and great conversation. It’s a casual gathering for men to connect\, share\, and start the weekend with purpose. All are welcome!
URL:https://vmicmaryland.org/event-2/mens-breakfast/2027-04-03/
LOCATION:Veterans Ministry Information Center\, 150 Ball Road\, Saint Leonard\, MD\, 20685\, United States
ATTACH;FMTTYPE=image/jpeg:https://vmicmaryland.org/wp-content/uploads/2025/06/qtq80-jPmGWe-scaled.jpeg
END:VEVENT
BEGIN:VEVENT
DTSTART;TZID=America/Halifax:20270406T190000
DTEND;TZID=America/Halifax:20270406T203000
DTSTAMP:20260422T002214
CREATED:20250703T174728Z
LAST-MODIFIED:20250703T175509Z
UID:10000215-1807038000-1807043400@vmicmaryland.org
SUMMARY:Bible Study - Covenant Ministries
DESCRIPTION:
URL:https://vmicmaryland.org/event-2/bible-study/2027-04-06/
LOCATION:Southern Community Center\, 20 Appeal Lane\, Lusby\, Maryland\, 20657
ATTACH;FMTTYPE=image/webp:https://vmicmaryland.org/wp-content/uploads/2025/07/9791b01f-31b2-4635-aebb-f37dec137f76-scaled.webp
END:VEVENT
BEGIN:VEVENT
DTSTART;TZID=America/Halifax:20270407T183000
DTEND;TZID=America/Halifax:20270407T193000
DTSTAMP:20260422T002214
CREATED:20250703T180002Z
LAST-MODIFIED:20250703T180159Z
UID:10000476-1807122600-1807126200@vmicmaryland.org
SUMMARY:Bible Study - Truth Seekers\, Crossroad Church
DESCRIPTION:
URL:https://vmicmaryland.org/event-2/bible-study-truth-seekers-crossroad-church/2027-04-07/
LOCATION:Veterans Ministry Information Center\, 150 Ball Road\, Saint Leonard\, MD\, 20685\, United States
ATTACH;FMTTYPE=image/webp:https://vmicmaryland.org/wp-content/uploads/2025/07/9791b01f-31b2-4635-aebb-f37dec137f76-scaled.webp
END:VEVENT
BEGIN:VEVENT
DTSTART;TZID=America/Halifax:20270410T093000
DTEND;TZID=America/Halifax:20270410T113000
DTSTAMP:20260422T002214
CREATED:20250613T215336Z
LAST-MODIFIED:20250630T133214Z
UID:10000084-1807349400-1807356600@vmicmaryland.org
SUMMARY:Women's Breakfast
DESCRIPTION:Join us every second Saturday of the month in our Fellow Ship hall for a time of good food and great conversation. It’s a casual gathering for women to connect\, share\, and start the weekend with purpose. All are welcome!
URL:https://vmicmaryland.org/event-2/womens-breakfast/2027-04-10/
LOCATION:Veterans Ministry Information Center\, 150 Ball Road\, Saint Leonard\, MD\, 20685\, United States
ATTACH;FMTTYPE=image/jpeg:https://vmicmaryland.org/wp-content/uploads/2025/06/qtq80-J3bu4q-scaled.jpeg
END:VEVENT
BEGIN:VEVENT
DTSTART;TZID=America/Halifax:20270413T190000
DTEND;TZID=America/Halifax:20270413T203000
DTSTAMP:20260422T002214
CREATED:20250703T174728Z
LAST-MODIFIED:20250703T175509Z
UID:10000216-1807642800-1807648200@vmicmaryland.org
SUMMARY:Bible Study - Covenant Ministries
DESCRIPTION:
URL:https://vmicmaryland.org/event-2/bible-study/2027-04-13/
LOCATION:Southern Community Center\, 20 Appeal Lane\, Lusby\, Maryland\, 20657
ATTACH;FMTTYPE=image/webp:https://vmicmaryland.org/wp-content/uploads/2025/07/9791b01f-31b2-4635-aebb-f37dec137f76-scaled.webp
END:VEVENT
BEGIN:VEVENT
DTSTART;TZID=America/Halifax:20270414T183000
DTEND;TZID=America/Halifax:20270414T193000
DTSTAMP:20260422T002214
CREATED:20250703T180002Z
LAST-MODIFIED:20250703T180159Z
UID:10000477-1807727400-1807731000@vmicmaryland.org
SUMMARY:Bible Study - Truth Seekers\, Crossroad Church
DESCRIPTION:
URL:https://vmicmaryland.org/event-2/bible-study-truth-seekers-crossroad-church/2027-04-14/
LOCATION:Veterans Ministry Information Center\, 150 Ball Road\, Saint Leonard\, MD\, 20685\, United States
ATTACH;FMTTYPE=image/webp:https://vmicmaryland.org/wp-content/uploads/2025/07/9791b01f-31b2-4635-aebb-f37dec137f76-scaled.webp
END:VEVENT
BEGIN:VEVENT
DTSTART;TZID=America/Halifax:20270420T190000
DTEND;TZID=America/Halifax:20270420T203000
DTSTAMP:20260422T002214
CREATED:20250703T174728Z
LAST-MODIFIED:20250703T175509Z
UID:10000217-1808247600-1808253000@vmicmaryland.org
SUMMARY:Bible Study - Covenant Ministries
DESCRIPTION:
URL:https://vmicmaryland.org/event-2/bible-study/2027-04-20/
LOCATION:Southern Community Center\, 20 Appeal Lane\, Lusby\, Maryland\, 20657
ATTACH;FMTTYPE=image/webp:https://vmicmaryland.org/wp-content/uploads/2025/07/9791b01f-31b2-4635-aebb-f37dec137f76-scaled.webp
END:VEVENT
BEGIN:VEVENT
DTSTART;TZID=America/Halifax:20270421T183000
DTEND;TZID=America/Halifax:20270421T193000
DTSTAMP:20260422T002214
CREATED:20250703T180002Z
LAST-MODIFIED:20250703T180159Z
UID:10000478-1808332200-1808335800@vmicmaryland.org
SUMMARY:Bible Study - Truth Seekers\, Crossroad Church
DESCRIPTION:
URL:https://vmicmaryland.org/event-2/bible-study-truth-seekers-crossroad-church/2027-04-21/
LOCATION:Veterans Ministry Information Center\, 150 Ball Road\, Saint Leonard\, MD\, 20685\, United States
ATTACH;FMTTYPE=image/webp:https://vmicmaryland.org/wp-content/uploads/2025/07/9791b01f-31b2-4635-aebb-f37dec137f76-scaled.webp
END:VEVENT
BEGIN:VEVENT
DTSTART;TZID=America/Halifax:20270427T190000
DTEND;TZID=America/Halifax:20270427T203000
DTSTAMP:20260422T002214
CREATED:20250703T174728Z
LAST-MODIFIED:20250703T175509Z
UID:10000218-1808852400-1808857800@vmicmaryland.org
SUMMARY:Bible Study - Covenant Ministries
DESCRIPTION:
URL:https://vmicmaryland.org/event-2/bible-study/2027-04-27/
LOCATION:Southern Community Center\, 20 Appeal Lane\, Lusby\, Maryland\, 20657
ATTACH;FMTTYPE=image/webp:https://vmicmaryland.org/wp-content/uploads/2025/07/9791b01f-31b2-4635-aebb-f37dec137f76-scaled.webp
END:VEVENT
BEGIN:VEVENT
DTSTART;TZID=America/Halifax:20270428T183000
DTEND;TZID=America/Halifax:20270428T193000
DTSTAMP:20260422T002214
CREATED:20250703T180002Z
LAST-MODIFIED:20250703T180159Z
UID:10000479-1808937000-1808940600@vmicmaryland.org
SUMMARY:Bible Study - Truth Seekers\, Crossroad Church
DESCRIPTION:
URL:https://vmicmaryland.org/event-2/bible-study-truth-seekers-crossroad-church/2027-04-28/
LOCATION:Veterans Ministry Information Center\, 150 Ball Road\, Saint Leonard\, MD\, 20685\, United States
ATTACH;FMTTYPE=image/webp:https://vmicmaryland.org/wp-content/uploads/2025/07/9791b01f-31b2-4635-aebb-f37dec137f76-scaled.webp
END:VEVENT
END:VCALENDAR