BEGIN:VCALENDAR
VERSION:2.0
PRODID:-//Veterans Ministry Information Center - ECPv6.15.20//NONSGML v1.0//EN
CALSCALE:GREGORIAN
METHOD:PUBLISH
X-WR-CALNAME:Veterans Ministry Information Center
X-ORIGINAL-URL:https://vmicmaryland.org
X-WR-CALDESC:Events for Veterans Ministry Information Center
REFRESH-INTERVAL;VALUE=DURATION:PT1H
X-Robots-Tag:noindex
X-PUBLISHED-TTL:PT1H
BEGIN:VTIMEZONE
TZID:America/Halifax
BEGIN:DAYLIGHT
TZOFFSETFROM:-0400
TZOFFSETTO:-0300
TZNAME:ADT
DTSTART:20240310T060000
END:DAYLIGHT
BEGIN:STANDARD
TZOFFSETFROM:-0300
TZOFFSETTO:-0400
TZNAME:AST
DTSTART:20241103T050000
END:STANDARD
BEGIN:DAYLIGHT
TZOFFSETFROM:-0400
TZOFFSETTO:-0300
TZNAME:ADT
DTSTART:20250309T060000
END:DAYLIGHT
BEGIN:STANDARD
TZOFFSETFROM:-0300
TZOFFSETTO:-0400
TZNAME:AST
DTSTART:20251102T050000
END:STANDARD
BEGIN:DAYLIGHT
TZOFFSETFROM:-0400
TZOFFSETTO:-0300
TZNAME:ADT
DTSTART:20260308T060000
END:DAYLIGHT
BEGIN:STANDARD
TZOFFSETFROM:-0300
TZOFFSETTO:-0400
TZNAME:AST
DTSTART:20261101T050000
END:STANDARD
END:VTIMEZONE
BEGIN:VEVENT
DTSTART;TZID=America/Halifax:20251101T080000
DTEND;TZID=America/Halifax:20251101T100000
DTSTAMP:20260421T131159
CREATED:20250509T074701Z
LAST-MODIFIED:20250630T133225Z
UID:10000006-1761984000-1761991200@vmicmaryland.org
SUMMARY:Men's Breakfast
DESCRIPTION:Join us every first Saturday of the month in our Fellow Ship hall for a time of good food and great conversation. It’s a casual gathering for men to connect\, share\, and start the weekend with purpose. All are welcome!
URL:https://vmicmaryland.org/event-2/mens-breakfast/2025-11-01/
LOCATION:Veterans Ministry Information Center\, 150 Ball Road\, Saint Leonard\, MD\, 20685\, United States
ATTACH;FMTTYPE=image/jpeg:https://vmicmaryland.org/wp-content/uploads/2025/06/qtq80-jPmGWe-scaled.jpeg
END:VEVENT
BEGIN:VEVENT
DTSTART;TZID=America/Halifax:20251104T190000
DTEND;TZID=America/Halifax:20251104T203000
DTSTAMP:20260421T131159
CREATED:20250703T174728Z
LAST-MODIFIED:20250703T175509Z
UID:10000141-1762282800-1762288200@vmicmaryland.org
SUMMARY:Bible Study - Covenant Ministries
DESCRIPTION:
URL:https://vmicmaryland.org/event-2/bible-study/2025-11-04/
LOCATION:Southern Community Center\, 20 Appeal Lane\, Lusby\, Maryland\, 20657
ATTACH;FMTTYPE=image/webp:https://vmicmaryland.org/wp-content/uploads/2025/07/9791b01f-31b2-4635-aebb-f37dec137f76-scaled.webp
END:VEVENT
BEGIN:VEVENT
DTSTART;TZID=America/Halifax:20251105T183000
DTEND;TZID=America/Halifax:20251105T193000
DTSTAMP:20260421T131159
CREATED:20250703T180002Z
LAST-MODIFIED:20250703T180159Z
UID:10000402-1762367400-1762371000@vmicmaryland.org
SUMMARY:Bible Study - Truth Seekers\, Crossroad Church
DESCRIPTION:
URL:https://vmicmaryland.org/event-2/bible-study-truth-seekers-crossroad-church/2025-11-05/
LOCATION:Veterans Ministry Information Center\, 150 Ball Road\, Saint Leonard\, MD\, 20685\, United States
ATTACH;FMTTYPE=image/webp:https://vmicmaryland.org/wp-content/uploads/2025/07/9791b01f-31b2-4635-aebb-f37dec137f76-scaled.webp
END:VEVENT
BEGIN:VEVENT
DTSTART;TZID=America/Halifax:20251108T093000
DTEND;TZID=America/Halifax:20251108T113000
DTSTAMP:20260421T131159
CREATED:20250613T215336Z
LAST-MODIFIED:20250630T133214Z
UID:10000067-1762594200-1762601400@vmicmaryland.org
SUMMARY:Women's Breakfast
DESCRIPTION:Join us every second Saturday of the month in our Fellow Ship hall for a time of good food and great conversation. It’s a casual gathering for women to connect\, share\, and start the weekend with purpose. All are welcome!
URL:https://vmicmaryland.org/event-2/womens-breakfast/2025-11-08/
LOCATION:Veterans Ministry Information Center\, 150 Ball Road\, Saint Leonard\, MD\, 20685\, United States
ATTACH;FMTTYPE=image/jpeg:https://vmicmaryland.org/wp-content/uploads/2025/06/qtq80-J3bu4q-scaled.jpeg
END:VEVENT
BEGIN:VEVENT
DTSTART;TZID=America/Halifax:20251111T190000
DTEND;TZID=America/Halifax:20251111T203000
DTSTAMP:20260421T131159
CREATED:20250703T174728Z
LAST-MODIFIED:20250703T175509Z
UID:10000142-1762887600-1762893000@vmicmaryland.org
SUMMARY:Bible Study - Covenant Ministries
DESCRIPTION:
URL:https://vmicmaryland.org/event-2/bible-study/2025-11-11/
LOCATION:Southern Community Center\, 20 Appeal Lane\, Lusby\, Maryland\, 20657
ATTACH;FMTTYPE=image/webp:https://vmicmaryland.org/wp-content/uploads/2025/07/9791b01f-31b2-4635-aebb-f37dec137f76-scaled.webp
END:VEVENT
BEGIN:VEVENT
DTSTART;TZID=America/Halifax:20251112T183000
DTEND;TZID=America/Halifax:20251112T193000
DTSTAMP:20260421T131159
CREATED:20250703T180002Z
LAST-MODIFIED:20250703T180159Z
UID:10000403-1762972200-1762975800@vmicmaryland.org
SUMMARY:Bible Study - Truth Seekers\, Crossroad Church
DESCRIPTION:
URL:https://vmicmaryland.org/event-2/bible-study-truth-seekers-crossroad-church/2025-11-12/
LOCATION:Veterans Ministry Information Center\, 150 Ball Road\, Saint Leonard\, MD\, 20685\, United States
ATTACH;FMTTYPE=image/webp:https://vmicmaryland.org/wp-content/uploads/2025/07/9791b01f-31b2-4635-aebb-f37dec137f76-scaled.webp
END:VEVENT
BEGIN:VEVENT
DTSTART;TZID=America/Halifax:20251118T190000
DTEND;TZID=America/Halifax:20251118T203000
DTSTAMP:20260421T131159
CREATED:20250703T174728Z
LAST-MODIFIED:20250703T175509Z
UID:10000143-1763492400-1763497800@vmicmaryland.org
SUMMARY:Bible Study - Covenant Ministries
DESCRIPTION:
URL:https://vmicmaryland.org/event-2/bible-study/2025-11-18/
LOCATION:Southern Community Center\, 20 Appeal Lane\, Lusby\, Maryland\, 20657
ATTACH;FMTTYPE=image/webp:https://vmicmaryland.org/wp-content/uploads/2025/07/9791b01f-31b2-4635-aebb-f37dec137f76-scaled.webp
END:VEVENT
BEGIN:VEVENT
DTSTART;TZID=America/Halifax:20251119T183000
DTEND;TZID=America/Halifax:20251119T193000
DTSTAMP:20260421T131159
CREATED:20250703T180002Z
LAST-MODIFIED:20250703T180159Z
UID:10000404-1763577000-1763580600@vmicmaryland.org
SUMMARY:Bible Study - Truth Seekers\, Crossroad Church
DESCRIPTION:
URL:https://vmicmaryland.org/event-2/bible-study-truth-seekers-crossroad-church/2025-11-19/
LOCATION:Veterans Ministry Information Center\, 150 Ball Road\, Saint Leonard\, MD\, 20685\, United States
ATTACH;FMTTYPE=image/webp:https://vmicmaryland.org/wp-content/uploads/2025/07/9791b01f-31b2-4635-aebb-f37dec137f76-scaled.webp
END:VEVENT
BEGIN:VEVENT
DTSTART;TZID=America/Halifax:20251125T190000
DTEND;TZID=America/Halifax:20251125T203000
DTSTAMP:20260421T131159
CREATED:20250703T174728Z
LAST-MODIFIED:20250703T175509Z
UID:10000144-1764097200-1764102600@vmicmaryland.org
SUMMARY:Bible Study - Covenant Ministries
DESCRIPTION:
URL:https://vmicmaryland.org/event-2/bible-study/2025-11-25/
LOCATION:Southern Community Center\, 20 Appeal Lane\, Lusby\, Maryland\, 20657
ATTACH;FMTTYPE=image/webp:https://vmicmaryland.org/wp-content/uploads/2025/07/9791b01f-31b2-4635-aebb-f37dec137f76-scaled.webp
END:VEVENT
BEGIN:VEVENT
DTSTART;TZID=America/Halifax:20251126T183000
DTEND;TZID=America/Halifax:20251126T193000
DTSTAMP:20260421T131159
CREATED:20250703T180002Z
LAST-MODIFIED:20250703T180159Z
UID:10000405-1764181800-1764185400@vmicmaryland.org
SUMMARY:Bible Study - Truth Seekers\, Crossroad Church
DESCRIPTION:
URL:https://vmicmaryland.org/event-2/bible-study-truth-seekers-crossroad-church/2025-11-26/
LOCATION:Veterans Ministry Information Center\, 150 Ball Road\, Saint Leonard\, MD\, 20685\, United States
ATTACH;FMTTYPE=image/webp:https://vmicmaryland.org/wp-content/uploads/2025/07/9791b01f-31b2-4635-aebb-f37dec137f76-scaled.webp
END:VEVENT
END:VCALENDAR