BEGIN:VCALENDAR
VERSION:2.0
PRODID:-//Veterans Ministry Information Center - ECPv6.15.20//NONSGML v1.0//EN
CALSCALE:GREGORIAN
METHOD:PUBLISH
X-ORIGINAL-URL:https://vmicmaryland.org
X-WR-CALDESC:Events for Veterans Ministry Information Center
REFRESH-INTERVAL;VALUE=DURATION:PT1H
X-Robots-Tag:noindex
X-PUBLISHED-TTL:PT1H
BEGIN:VTIMEZONE
TZID:America/Halifax
BEGIN:DAYLIGHT
TZOFFSETFROM:-0400
TZOFFSETTO:-0300
TZNAME:ADT
DTSTART:20270314T060000
END:DAYLIGHT
BEGIN:STANDARD
TZOFFSETFROM:-0300
TZOFFSETTO:-0400
TZNAME:AST
DTSTART:20271107T050000
END:STANDARD
BEGIN:DAYLIGHT
TZOFFSETFROM:-0400
TZOFFSETTO:-0300
TZNAME:ADT
DTSTART:20280312T060000
END:DAYLIGHT
BEGIN:STANDARD
TZOFFSETFROM:-0300
TZOFFSETTO:-0400
TZNAME:AST
DTSTART:20281105T050000
END:STANDARD
BEGIN:DAYLIGHT
TZOFFSETFROM:-0400
TZOFFSETTO:-0300
TZNAME:ADT
DTSTART:20290311T060000
END:DAYLIGHT
BEGIN:STANDARD
TZOFFSETFROM:-0300
TZOFFSETTO:-0400
TZNAME:AST
DTSTART:20291104T050000
END:STANDARD
END:VTIMEZONE
BEGIN:VEVENT
DTSTART;TZID=America/Halifax:20280411T190000
DTEND;TZID=America/Halifax:20280411T203000
DTSTAMP:20260422T193439
CREATED:20250703T174728Z
LAST-MODIFIED:20250703T175509Z
UID:10000268-1839092400-1839097800@vmicmaryland.org
SUMMARY:Bible Study - Covenant Ministries
DESCRIPTION:
URL:https://vmicmaryland.org/event-2/bible-study/2028-04-11/
LOCATION:Southern Community Center\, 20 Appeal Lane\, Lusby\, Maryland\, 20657
ATTACH;FMTTYPE=image/webp:https://vmicmaryland.org/wp-content/uploads/2025/07/9791b01f-31b2-4635-aebb-f37dec137f76-scaled.webp
END:VEVENT
BEGIN:VEVENT
DTSTART;TZID=America/Halifax:20280412T183000
DTEND;TZID=America/Halifax:20280412T193000
DTSTAMP:20260422T193439
CREATED:20250703T180002Z
LAST-MODIFIED:20250703T180159Z
UID:10000529-1839177000-1839180600@vmicmaryland.org
SUMMARY:Bible Study - Truth Seekers\, Crossroad Church
DESCRIPTION:
URL:https://vmicmaryland.org/event-2/bible-study-truth-seekers-crossroad-church/2028-04-12/
LOCATION:Veterans Ministry Information Center\, 150 Ball Road\, Saint Leonard\, MD\, 20685\, United States
ATTACH;FMTTYPE=image/webp:https://vmicmaryland.org/wp-content/uploads/2025/07/9791b01f-31b2-4635-aebb-f37dec137f76-scaled.webp
END:VEVENT
BEGIN:VEVENT
DTSTART;TZID=America/Halifax:20280418T190000
DTEND;TZID=America/Halifax:20280418T203000
DTSTAMP:20260422T193439
CREATED:20250703T174728Z
LAST-MODIFIED:20250703T175509Z
UID:10000269-1839697200-1839702600@vmicmaryland.org
SUMMARY:Bible Study - Covenant Ministries
DESCRIPTION:
URL:https://vmicmaryland.org/event-2/bible-study/2028-04-18/
LOCATION:Southern Community Center\, 20 Appeal Lane\, Lusby\, Maryland\, 20657
ATTACH;FMTTYPE=image/webp:https://vmicmaryland.org/wp-content/uploads/2025/07/9791b01f-31b2-4635-aebb-f37dec137f76-scaled.webp
END:VEVENT
BEGIN:VEVENT
DTSTART;TZID=America/Halifax:20280419T183000
DTEND;TZID=America/Halifax:20280419T193000
DTSTAMP:20260422T193439
CREATED:20250703T180002Z
LAST-MODIFIED:20250703T180159Z
UID:10000530-1839781800-1839785400@vmicmaryland.org
SUMMARY:Bible Study - Truth Seekers\, Crossroad Church
DESCRIPTION:
URL:https://vmicmaryland.org/event-2/bible-study-truth-seekers-crossroad-church/2028-04-19/
LOCATION:Veterans Ministry Information Center\, 150 Ball Road\, Saint Leonard\, MD\, 20685\, United States
ATTACH;FMTTYPE=image/webp:https://vmicmaryland.org/wp-content/uploads/2025/07/9791b01f-31b2-4635-aebb-f37dec137f76-scaled.webp
END:VEVENT
BEGIN:VEVENT
DTSTART;TZID=America/Halifax:20280425T190000
DTEND;TZID=America/Halifax:20280425T203000
DTSTAMP:20260422T193439
CREATED:20250703T174728Z
LAST-MODIFIED:20250703T175509Z
UID:10000270-1840302000-1840307400@vmicmaryland.org
SUMMARY:Bible Study - Covenant Ministries
DESCRIPTION:
URL:https://vmicmaryland.org/event-2/bible-study/2028-04-25/
LOCATION:Southern Community Center\, 20 Appeal Lane\, Lusby\, Maryland\, 20657
ATTACH;FMTTYPE=image/webp:https://vmicmaryland.org/wp-content/uploads/2025/07/9791b01f-31b2-4635-aebb-f37dec137f76-scaled.webp
END:VEVENT
BEGIN:VEVENT
DTSTART;TZID=America/Halifax:20280426T183000
DTEND;TZID=America/Halifax:20280426T193000
DTSTAMP:20260422T193439
CREATED:20250703T180002Z
LAST-MODIFIED:20250703T180159Z
UID:10000531-1840386600-1840390200@vmicmaryland.org
SUMMARY:Bible Study - Truth Seekers\, Crossroad Church
DESCRIPTION:
URL:https://vmicmaryland.org/event-2/bible-study-truth-seekers-crossroad-church/2028-04-26/
LOCATION:Veterans Ministry Information Center\, 150 Ball Road\, Saint Leonard\, MD\, 20685\, United States
ATTACH;FMTTYPE=image/webp:https://vmicmaryland.org/wp-content/uploads/2025/07/9791b01f-31b2-4635-aebb-f37dec137f76-scaled.webp
END:VEVENT
BEGIN:VEVENT
DTSTART;TZID=America/Halifax:20280502T190000
DTEND;TZID=America/Halifax:20280502T203000
DTSTAMP:20260422T193439
CREATED:20250703T174728Z
LAST-MODIFIED:20250703T175509Z
UID:10000271-1840906800-1840912200@vmicmaryland.org
SUMMARY:Bible Study - Covenant Ministries
DESCRIPTION:
URL:https://vmicmaryland.org/event-2/bible-study/2028-05-02/
LOCATION:Southern Community Center\, 20 Appeal Lane\, Lusby\, Maryland\, 20657
ATTACH;FMTTYPE=image/webp:https://vmicmaryland.org/wp-content/uploads/2025/07/9791b01f-31b2-4635-aebb-f37dec137f76-scaled.webp
END:VEVENT
BEGIN:VEVENT
DTSTART;TZID=America/Halifax:20280503T183000
DTEND;TZID=America/Halifax:20280503T193000
DTSTAMP:20260422T193439
CREATED:20250703T180002Z
LAST-MODIFIED:20250703T180159Z
UID:10000532-1840991400-1840995000@vmicmaryland.org
SUMMARY:Bible Study - Truth Seekers\, Crossroad Church
DESCRIPTION:
URL:https://vmicmaryland.org/event-2/bible-study-truth-seekers-crossroad-church/2028-05-03/
LOCATION:Veterans Ministry Information Center\, 150 Ball Road\, Saint Leonard\, MD\, 20685\, United States
ATTACH;FMTTYPE=image/webp:https://vmicmaryland.org/wp-content/uploads/2025/07/9791b01f-31b2-4635-aebb-f37dec137f76-scaled.webp
END:VEVENT
BEGIN:VEVENT
DTSTART;TZID=America/Halifax:20280506T080000
DTEND;TZID=America/Halifax:20280506T100000
DTSTAMP:20260422T193439
CREATED:20250509T074701Z
LAST-MODIFIED:20250630T133225Z
UID:10000036-1841212800-1841220000@vmicmaryland.org
SUMMARY:Men's Breakfast
DESCRIPTION:Join us every first Saturday of the month in our Fellow Ship hall for a time of good food and great conversation. It’s a casual gathering for men to connect\, share\, and start the weekend with purpose. All are welcome!
URL:https://vmicmaryland.org/event-2/mens-breakfast/2028-05-06/
LOCATION:Veterans Ministry Information Center\, 150 Ball Road\, Saint Leonard\, MD\, 20685\, United States
ATTACH;FMTTYPE=image/jpeg:https://vmicmaryland.org/wp-content/uploads/2025/06/qtq80-jPmGWe-scaled.jpeg
END:VEVENT
BEGIN:VEVENT
DTSTART;TZID=America/Halifax:20280509T190000
DTEND;TZID=America/Halifax:20280509T203000
DTSTAMP:20260422T193439
CREATED:20250703T174728Z
LAST-MODIFIED:20250703T175509Z
UID:10000272-1841511600-1841517000@vmicmaryland.org
SUMMARY:Bible Study - Covenant Ministries
DESCRIPTION:
URL:https://vmicmaryland.org/event-2/bible-study/2028-05-09/
LOCATION:Southern Community Center\, 20 Appeal Lane\, Lusby\, Maryland\, 20657
ATTACH;FMTTYPE=image/webp:https://vmicmaryland.org/wp-content/uploads/2025/07/9791b01f-31b2-4635-aebb-f37dec137f76-scaled.webp
END:VEVENT
BEGIN:VEVENT
DTSTART;TZID=America/Halifax:20280510T183000
DTEND;TZID=America/Halifax:20280510T193000
DTSTAMP:20260422T193439
CREATED:20250703T180002Z
LAST-MODIFIED:20250703T180159Z
UID:10000533-1841596200-1841599800@vmicmaryland.org
SUMMARY:Bible Study - Truth Seekers\, Crossroad Church
DESCRIPTION:
URL:https://vmicmaryland.org/event-2/bible-study-truth-seekers-crossroad-church/2028-05-10/
LOCATION:Veterans Ministry Information Center\, 150 Ball Road\, Saint Leonard\, MD\, 20685\, United States
ATTACH;FMTTYPE=image/webp:https://vmicmaryland.org/wp-content/uploads/2025/07/9791b01f-31b2-4635-aebb-f37dec137f76-scaled.webp
END:VEVENT
BEGIN:VEVENT
DTSTART;TZID=America/Halifax:20280513T093000
DTEND;TZID=America/Halifax:20280513T113000
DTSTAMP:20260422T193439
CREATED:20250613T215336Z
LAST-MODIFIED:20250630T133214Z
UID:10000097-1841823000-1841830200@vmicmaryland.org
SUMMARY:Women's Breakfast
DESCRIPTION:Join us every second Saturday of the month in our Fellow Ship hall for a time of good food and great conversation. It’s a casual gathering for women to connect\, share\, and start the weekend with purpose. All are welcome!
URL:https://vmicmaryland.org/event-2/womens-breakfast/2028-05-13/
LOCATION:Veterans Ministry Information Center\, 150 Ball Road\, Saint Leonard\, MD\, 20685\, United States
ATTACH;FMTTYPE=image/jpeg:https://vmicmaryland.org/wp-content/uploads/2025/06/qtq80-J3bu4q-scaled.jpeg
END:VEVENT
BEGIN:VEVENT
DTSTART;TZID=America/Halifax:20280516T190000
DTEND;TZID=America/Halifax:20280516T203000
DTSTAMP:20260422T193439
CREATED:20250703T174728Z
LAST-MODIFIED:20250703T175509Z
UID:10000273-1842116400-1842121800@vmicmaryland.org
SUMMARY:Bible Study - Covenant Ministries
DESCRIPTION:
URL:https://vmicmaryland.org/event-2/bible-study/2028-05-16/
LOCATION:Southern Community Center\, 20 Appeal Lane\, Lusby\, Maryland\, 20657
ATTACH;FMTTYPE=image/webp:https://vmicmaryland.org/wp-content/uploads/2025/07/9791b01f-31b2-4635-aebb-f37dec137f76-scaled.webp
END:VEVENT
BEGIN:VEVENT
DTSTART;TZID=America/Halifax:20280517T183000
DTEND;TZID=America/Halifax:20280517T193000
DTSTAMP:20260422T193440
CREATED:20250703T180002Z
LAST-MODIFIED:20250703T180159Z
UID:10000534-1842201000-1842204600@vmicmaryland.org
SUMMARY:Bible Study - Truth Seekers\, Crossroad Church
DESCRIPTION:
URL:https://vmicmaryland.org/event-2/bible-study-truth-seekers-crossroad-church/2028-05-17/
LOCATION:Veterans Ministry Information Center\, 150 Ball Road\, Saint Leonard\, MD\, 20685\, United States
ATTACH;FMTTYPE=image/webp:https://vmicmaryland.org/wp-content/uploads/2025/07/9791b01f-31b2-4635-aebb-f37dec137f76-scaled.webp
END:VEVENT
BEGIN:VEVENT
DTSTART;TZID=America/Halifax:20280523T190000
DTEND;TZID=America/Halifax:20280523T203000
DTSTAMP:20260422T193440
CREATED:20250703T174728Z
LAST-MODIFIED:20250703T175509Z
UID:10000274-1842721200-1842726600@vmicmaryland.org
SUMMARY:Bible Study - Covenant Ministries
DESCRIPTION:
URL:https://vmicmaryland.org/event-2/bible-study/2028-05-23/
LOCATION:Southern Community Center\, 20 Appeal Lane\, Lusby\, Maryland\, 20657
ATTACH;FMTTYPE=image/webp:https://vmicmaryland.org/wp-content/uploads/2025/07/9791b01f-31b2-4635-aebb-f37dec137f76-scaled.webp
END:VEVENT
BEGIN:VEVENT
DTSTART;TZID=America/Halifax:20280524T183000
DTEND;TZID=America/Halifax:20280524T193000
DTSTAMP:20260422T193440
CREATED:20250703T180002Z
LAST-MODIFIED:20250703T180159Z
UID:10000535-1842805800-1842809400@vmicmaryland.org
SUMMARY:Bible Study - Truth Seekers\, Crossroad Church
DESCRIPTION:
URL:https://vmicmaryland.org/event-2/bible-study-truth-seekers-crossroad-church/2028-05-24/
LOCATION:Veterans Ministry Information Center\, 150 Ball Road\, Saint Leonard\, MD\, 20685\, United States
ATTACH;FMTTYPE=image/webp:https://vmicmaryland.org/wp-content/uploads/2025/07/9791b01f-31b2-4635-aebb-f37dec137f76-scaled.webp
END:VEVENT
BEGIN:VEVENT
DTSTART;TZID=America/Halifax:20280530T190000
DTEND;TZID=America/Halifax:20280530T203000
DTSTAMP:20260422T193440
CREATED:20250703T174728Z
LAST-MODIFIED:20250703T175509Z
UID:10000275-1843326000-1843331400@vmicmaryland.org
SUMMARY:Bible Study - Covenant Ministries
DESCRIPTION:
URL:https://vmicmaryland.org/event-2/bible-study/2028-05-30/
LOCATION:Southern Community Center\, 20 Appeal Lane\, Lusby\, Maryland\, 20657
ATTACH;FMTTYPE=image/webp:https://vmicmaryland.org/wp-content/uploads/2025/07/9791b01f-31b2-4635-aebb-f37dec137f76-scaled.webp
END:VEVENT
BEGIN:VEVENT
DTSTART;TZID=America/Halifax:20280531T183000
DTEND;TZID=America/Halifax:20280531T193000
DTSTAMP:20260422T193440
CREATED:20250703T180002Z
LAST-MODIFIED:20250703T180159Z
UID:10000536-1843410600-1843414200@vmicmaryland.org
SUMMARY:Bible Study - Truth Seekers\, Crossroad Church
DESCRIPTION:
URL:https://vmicmaryland.org/event-2/bible-study-truth-seekers-crossroad-church/2028-05-31/
LOCATION:Veterans Ministry Information Center\, 150 Ball Road\, Saint Leonard\, MD\, 20685\, United States
ATTACH;FMTTYPE=image/webp:https://vmicmaryland.org/wp-content/uploads/2025/07/9791b01f-31b2-4635-aebb-f37dec137f76-scaled.webp
END:VEVENT
BEGIN:VEVENT
DTSTART;TZID=America/Halifax:20280603T080000
DTEND;TZID=America/Halifax:20280603T100000
DTSTAMP:20260422T193440
CREATED:20250509T074701Z
LAST-MODIFIED:20250630T133225Z
UID:10000037-1843632000-1843639200@vmicmaryland.org
SUMMARY:Men's Breakfast
DESCRIPTION:Join us every first Saturday of the month in our Fellow Ship hall for a time of good food and great conversation. It’s a casual gathering for men to connect\, share\, and start the weekend with purpose. All are welcome!
URL:https://vmicmaryland.org/event-2/mens-breakfast/2028-06-03/
LOCATION:Veterans Ministry Information Center\, 150 Ball Road\, Saint Leonard\, MD\, 20685\, United States
ATTACH;FMTTYPE=image/jpeg:https://vmicmaryland.org/wp-content/uploads/2025/06/qtq80-jPmGWe-scaled.jpeg
END:VEVENT
BEGIN:VEVENT
DTSTART;TZID=America/Halifax:20280606T190000
DTEND;TZID=America/Halifax:20280606T203000
DTSTAMP:20260422T193440
CREATED:20250703T174728Z
LAST-MODIFIED:20250703T175509Z
UID:10000276-1843930800-1843936200@vmicmaryland.org
SUMMARY:Bible Study - Covenant Ministries
DESCRIPTION:
URL:https://vmicmaryland.org/event-2/bible-study/2028-06-06/
LOCATION:Southern Community Center\, 20 Appeal Lane\, Lusby\, Maryland\, 20657
ATTACH;FMTTYPE=image/webp:https://vmicmaryland.org/wp-content/uploads/2025/07/9791b01f-31b2-4635-aebb-f37dec137f76-scaled.webp
END:VEVENT
BEGIN:VEVENT
DTSTART;TZID=America/Halifax:20280607T183000
DTEND;TZID=America/Halifax:20280607T193000
DTSTAMP:20260422T193440
CREATED:20250703T180002Z
LAST-MODIFIED:20250703T180159Z
UID:10000537-1844015400-1844019000@vmicmaryland.org
SUMMARY:Bible Study - Truth Seekers\, Crossroad Church
DESCRIPTION:
URL:https://vmicmaryland.org/event-2/bible-study-truth-seekers-crossroad-church/2028-06-07/
LOCATION:Veterans Ministry Information Center\, 150 Ball Road\, Saint Leonard\, MD\, 20685\, United States
ATTACH;FMTTYPE=image/webp:https://vmicmaryland.org/wp-content/uploads/2025/07/9791b01f-31b2-4635-aebb-f37dec137f76-scaled.webp
END:VEVENT
BEGIN:VEVENT
DTSTART;TZID=America/Halifax:20280610T093000
DTEND;TZID=America/Halifax:20280610T113000
DTSTAMP:20260422T193440
CREATED:20250613T215336Z
LAST-MODIFIED:20250630T133214Z
UID:10000098-1844242200-1844249400@vmicmaryland.org
SUMMARY:Women's Breakfast
DESCRIPTION:Join us every second Saturday of the month in our Fellow Ship hall for a time of good food and great conversation. It’s a casual gathering for women to connect\, share\, and start the weekend with purpose. All are welcome!
URL:https://vmicmaryland.org/event-2/womens-breakfast/2028-06-10/
LOCATION:Veterans Ministry Information Center\, 150 Ball Road\, Saint Leonard\, MD\, 20685\, United States
ATTACH;FMTTYPE=image/jpeg:https://vmicmaryland.org/wp-content/uploads/2025/06/qtq80-J3bu4q-scaled.jpeg
END:VEVENT
BEGIN:VEVENT
DTSTART;TZID=America/Halifax:20280613T190000
DTEND;TZID=America/Halifax:20280613T203000
DTSTAMP:20260422T193440
CREATED:20250703T174728Z
LAST-MODIFIED:20250703T175509Z
UID:10000277-1844535600-1844541000@vmicmaryland.org
SUMMARY:Bible Study - Covenant Ministries
DESCRIPTION:
URL:https://vmicmaryland.org/event-2/bible-study/2028-06-13/
LOCATION:Southern Community Center\, 20 Appeal Lane\, Lusby\, Maryland\, 20657
ATTACH;FMTTYPE=image/webp:https://vmicmaryland.org/wp-content/uploads/2025/07/9791b01f-31b2-4635-aebb-f37dec137f76-scaled.webp
END:VEVENT
BEGIN:VEVENT
DTSTART;TZID=America/Halifax:20280614T183000
DTEND;TZID=America/Halifax:20280614T193000
DTSTAMP:20260422T193440
CREATED:20250703T180002Z
LAST-MODIFIED:20250703T180159Z
UID:10000538-1844620200-1844623800@vmicmaryland.org
SUMMARY:Bible Study - Truth Seekers\, Crossroad Church
DESCRIPTION:
URL:https://vmicmaryland.org/event-2/bible-study-truth-seekers-crossroad-church/2028-06-14/
LOCATION:Veterans Ministry Information Center\, 150 Ball Road\, Saint Leonard\, MD\, 20685\, United States
ATTACH;FMTTYPE=image/webp:https://vmicmaryland.org/wp-content/uploads/2025/07/9791b01f-31b2-4635-aebb-f37dec137f76-scaled.webp
END:VEVENT
BEGIN:VEVENT
DTSTART;TZID=America/Halifax:20280620T190000
DTEND;TZID=America/Halifax:20280620T203000
DTSTAMP:20260422T193440
CREATED:20250703T174728Z
LAST-MODIFIED:20250703T175509Z
UID:10000278-1845140400-1845145800@vmicmaryland.org
SUMMARY:Bible Study - Covenant Ministries
DESCRIPTION:
URL:https://vmicmaryland.org/event-2/bible-study/2028-06-20/
LOCATION:Southern Community Center\, 20 Appeal Lane\, Lusby\, Maryland\, 20657
ATTACH;FMTTYPE=image/webp:https://vmicmaryland.org/wp-content/uploads/2025/07/9791b01f-31b2-4635-aebb-f37dec137f76-scaled.webp
END:VEVENT
BEGIN:VEVENT
DTSTART;TZID=America/Halifax:20280621T183000
DTEND;TZID=America/Halifax:20280621T193000
DTSTAMP:20260422T193440
CREATED:20250703T180002Z
LAST-MODIFIED:20250703T180159Z
UID:10000539-1845225000-1845228600@vmicmaryland.org
SUMMARY:Bible Study - Truth Seekers\, Crossroad Church
DESCRIPTION:
URL:https://vmicmaryland.org/event-2/bible-study-truth-seekers-crossroad-church/2028-06-21/
LOCATION:Veterans Ministry Information Center\, 150 Ball Road\, Saint Leonard\, MD\, 20685\, United States
ATTACH;FMTTYPE=image/webp:https://vmicmaryland.org/wp-content/uploads/2025/07/9791b01f-31b2-4635-aebb-f37dec137f76-scaled.webp
END:VEVENT
BEGIN:VEVENT
DTSTART;TZID=America/Halifax:20280627T190000
DTEND;TZID=America/Halifax:20280627T203000
DTSTAMP:20260422T193440
CREATED:20250703T174728Z
LAST-MODIFIED:20250703T175509Z
UID:10000279-1845745200-1845750600@vmicmaryland.org
SUMMARY:Bible Study - Covenant Ministries
DESCRIPTION:
URL:https://vmicmaryland.org/event-2/bible-study/2028-06-27/
LOCATION:Southern Community Center\, 20 Appeal Lane\, Lusby\, Maryland\, 20657
ATTACH;FMTTYPE=image/webp:https://vmicmaryland.org/wp-content/uploads/2025/07/9791b01f-31b2-4635-aebb-f37dec137f76-scaled.webp
END:VEVENT
BEGIN:VEVENT
DTSTART;TZID=America/Halifax:20280628T183000
DTEND;TZID=America/Halifax:20280628T193000
DTSTAMP:20260422T193440
CREATED:20250703T180002Z
LAST-MODIFIED:20250703T180159Z
UID:10000540-1845829800-1845833400@vmicmaryland.org
SUMMARY:Bible Study - Truth Seekers\, Crossroad Church
DESCRIPTION:
URL:https://vmicmaryland.org/event-2/bible-study-truth-seekers-crossroad-church/2028-06-28/
LOCATION:Veterans Ministry Information Center\, 150 Ball Road\, Saint Leonard\, MD\, 20685\, United States
ATTACH;FMTTYPE=image/webp:https://vmicmaryland.org/wp-content/uploads/2025/07/9791b01f-31b2-4635-aebb-f37dec137f76-scaled.webp
END:VEVENT
BEGIN:VEVENT
DTSTART;TZID=America/Halifax:20280701T080000
DTEND;TZID=America/Halifax:20280701T100000
DTSTAMP:20260422T193440
CREATED:20250509T074701Z
LAST-MODIFIED:20250630T133225Z
UID:10000038-1846051200-1846058400@vmicmaryland.org
SUMMARY:Men's Breakfast
DESCRIPTION:Join us every first Saturday of the month in our Fellow Ship hall for a time of good food and great conversation. It’s a casual gathering for men to connect\, share\, and start the weekend with purpose. All are welcome!
URL:https://vmicmaryland.org/event-2/mens-breakfast/2028-07-01/
LOCATION:Veterans Ministry Information Center\, 150 Ball Road\, Saint Leonard\, MD\, 20685\, United States
ATTACH;FMTTYPE=image/jpeg:https://vmicmaryland.org/wp-content/uploads/2025/06/qtq80-jPmGWe-scaled.jpeg
END:VEVENT
BEGIN:VEVENT
DTSTART;TZID=America/Halifax:20280704T190000
DTEND;TZID=America/Halifax:20280704T203000
DTSTAMP:20260422T193440
CREATED:20250703T174728Z
LAST-MODIFIED:20250703T175509Z
UID:10000280-1846350000-1846355400@vmicmaryland.org
SUMMARY:Bible Study - Covenant Ministries
DESCRIPTION:
URL:https://vmicmaryland.org/event-2/bible-study/2028-07-04/
LOCATION:Southern Community Center\, 20 Appeal Lane\, Lusby\, Maryland\, 20657
ATTACH;FMTTYPE=image/webp:https://vmicmaryland.org/wp-content/uploads/2025/07/9791b01f-31b2-4635-aebb-f37dec137f76-scaled.webp
END:VEVENT
END:VCALENDAR