BEGIN:VCALENDAR
VERSION:2.0
PRODID:-//Veterans Ministry Information Center - ECPv6.15.20//NONSGML v1.0//EN
CALSCALE:GREGORIAN
METHOD:PUBLISH
X-ORIGINAL-URL:https://vmicmaryland.org
X-WR-CALDESC:Events for Veterans Ministry Information Center
REFRESH-INTERVAL;VALUE=DURATION:PT1H
X-Robots-Tag:noindex
X-PUBLISHED-TTL:PT1H
BEGIN:VTIMEZONE
TZID:America/Halifax
BEGIN:DAYLIGHT
TZOFFSETFROM:-0400
TZOFFSETTO:-0300
TZNAME:ADT
DTSTART:20270314T060000
END:DAYLIGHT
BEGIN:STANDARD
TZOFFSETFROM:-0300
TZOFFSETTO:-0400
TZNAME:AST
DTSTART:20271107T050000
END:STANDARD
BEGIN:DAYLIGHT
TZOFFSETFROM:-0400
TZOFFSETTO:-0300
TZNAME:ADT
DTSTART:20280312T060000
END:DAYLIGHT
BEGIN:STANDARD
TZOFFSETFROM:-0300
TZOFFSETTO:-0400
TZNAME:AST
DTSTART:20281105T050000
END:STANDARD
BEGIN:DAYLIGHT
TZOFFSETFROM:-0400
TZOFFSETTO:-0300
TZNAME:ADT
DTSTART:20290311T060000
END:DAYLIGHT
BEGIN:STANDARD
TZOFFSETFROM:-0300
TZOFFSETTO:-0400
TZNAME:AST
DTSTART:20291104T050000
END:STANDARD
BEGIN:DAYLIGHT
TZOFFSETFROM:-0400
TZOFFSETTO:-0300
TZNAME:ADT
DTSTART:20300310T060000
END:DAYLIGHT
BEGIN:STANDARD
TZOFFSETFROM:-0300
TZOFFSETTO:-0400
TZNAME:AST
DTSTART:20301103T050000
END:STANDARD
END:VTIMEZONE
BEGIN:VEVENT
DTSTART;TZID=America/Halifax:20281202T080000
DTEND;TZID=America/Halifax:20281202T100000
DTSTAMP:20260423T084254
CREATED:20250509T074701Z
LAST-MODIFIED:20250630T133225Z
UID:10000043-1859356800-1859364000@vmicmaryland.org
SUMMARY:Men's Breakfast
DESCRIPTION:Join us every first Saturday of the month in our Fellow Ship hall for a time of good food and great conversation. It’s a casual gathering for men to connect\, share\, and start the weekend with purpose. All are welcome!
URL:https://vmicmaryland.org/event-2/mens-breakfast/2028-12-02/
LOCATION:Veterans Ministry Information Center\, 150 Ball Road\, Saint Leonard\, MD\, 20685\, United States
ATTACH;FMTTYPE=image/jpeg:https://vmicmaryland.org/wp-content/uploads/2025/06/qtq80-jPmGWe-scaled.jpeg
END:VEVENT
BEGIN:VEVENT
DTSTART;TZID=America/Halifax:20281205T190000
DTEND;TZID=America/Halifax:20281205T203000
DTSTAMP:20260423T084254
CREATED:20250703T174728Z
LAST-MODIFIED:20250703T175509Z
UID:10000302-1859655600-1859661000@vmicmaryland.org
SUMMARY:Bible Study - Covenant Ministries
DESCRIPTION:
URL:https://vmicmaryland.org/event-2/bible-study/2028-12-05/
LOCATION:Southern Community Center\, 20 Appeal Lane\, Lusby\, Maryland\, 20657
ATTACH;FMTTYPE=image/webp:https://vmicmaryland.org/wp-content/uploads/2025/07/9791b01f-31b2-4635-aebb-f37dec137f76-scaled.webp
END:VEVENT
BEGIN:VEVENT
DTSTART;TZID=America/Halifax:20281206T183000
DTEND;TZID=America/Halifax:20281206T193000
DTSTAMP:20260423T084254
CREATED:20250703T180002Z
LAST-MODIFIED:20250703T180159Z
UID:10000563-1859740200-1859743800@vmicmaryland.org
SUMMARY:Bible Study - Truth Seekers\, Crossroad Church
DESCRIPTION:
URL:https://vmicmaryland.org/event-2/bible-study-truth-seekers-crossroad-church/2028-12-06/
LOCATION:Veterans Ministry Information Center\, 150 Ball Road\, Saint Leonard\, MD\, 20685\, United States
ATTACH;FMTTYPE=image/webp:https://vmicmaryland.org/wp-content/uploads/2025/07/9791b01f-31b2-4635-aebb-f37dec137f76-scaled.webp
END:VEVENT
BEGIN:VEVENT
DTSTART;TZID=America/Halifax:20281209T093000
DTEND;TZID=America/Halifax:20281209T113000
DTSTAMP:20260423T084254
CREATED:20250613T215336Z
LAST-MODIFIED:20250630T133214Z
UID:10000104-1859967000-1859974200@vmicmaryland.org
SUMMARY:Women's Breakfast
DESCRIPTION:Join us every second Saturday of the month in our Fellow Ship hall for a time of good food and great conversation. It’s a casual gathering for women to connect\, share\, and start the weekend with purpose. All are welcome!
URL:https://vmicmaryland.org/event-2/womens-breakfast/2028-12-09/
LOCATION:Veterans Ministry Information Center\, 150 Ball Road\, Saint Leonard\, MD\, 20685\, United States
ATTACH;FMTTYPE=image/jpeg:https://vmicmaryland.org/wp-content/uploads/2025/06/qtq80-J3bu4q-scaled.jpeg
END:VEVENT
BEGIN:VEVENT
DTSTART;TZID=America/Halifax:20281212T190000
DTEND;TZID=America/Halifax:20281212T203000
DTSTAMP:20260423T084254
CREATED:20250703T174728Z
LAST-MODIFIED:20250703T175509Z
UID:10000303-1860260400-1860265800@vmicmaryland.org
SUMMARY:Bible Study - Covenant Ministries
DESCRIPTION:
URL:https://vmicmaryland.org/event-2/bible-study/2028-12-12/
LOCATION:Southern Community Center\, 20 Appeal Lane\, Lusby\, Maryland\, 20657
ATTACH;FMTTYPE=image/webp:https://vmicmaryland.org/wp-content/uploads/2025/07/9791b01f-31b2-4635-aebb-f37dec137f76-scaled.webp
END:VEVENT
BEGIN:VEVENT
DTSTART;TZID=America/Halifax:20281213T183000
DTEND;TZID=America/Halifax:20281213T193000
DTSTAMP:20260423T084254
CREATED:20250703T180002Z
LAST-MODIFIED:20250703T180159Z
UID:10000564-1860345000-1860348600@vmicmaryland.org
SUMMARY:Bible Study - Truth Seekers\, Crossroad Church
DESCRIPTION:
URL:https://vmicmaryland.org/event-2/bible-study-truth-seekers-crossroad-church/2028-12-13/
LOCATION:Veterans Ministry Information Center\, 150 Ball Road\, Saint Leonard\, MD\, 20685\, United States
ATTACH;FMTTYPE=image/webp:https://vmicmaryland.org/wp-content/uploads/2025/07/9791b01f-31b2-4635-aebb-f37dec137f76-scaled.webp
END:VEVENT
BEGIN:VEVENT
DTSTART;TZID=America/Halifax:20281219T190000
DTEND;TZID=America/Halifax:20281219T203000
DTSTAMP:20260423T084254
CREATED:20250703T174728Z
LAST-MODIFIED:20250703T175509Z
UID:10000304-1860865200-1860870600@vmicmaryland.org
SUMMARY:Bible Study - Covenant Ministries
DESCRIPTION:
URL:https://vmicmaryland.org/event-2/bible-study/2028-12-19/
LOCATION:Southern Community Center\, 20 Appeal Lane\, Lusby\, Maryland\, 20657
ATTACH;FMTTYPE=image/webp:https://vmicmaryland.org/wp-content/uploads/2025/07/9791b01f-31b2-4635-aebb-f37dec137f76-scaled.webp
END:VEVENT
BEGIN:VEVENT
DTSTART;TZID=America/Halifax:20281220T183000
DTEND;TZID=America/Halifax:20281220T193000
DTSTAMP:20260423T084254
CREATED:20250703T180002Z
LAST-MODIFIED:20250703T180159Z
UID:10000565-1860949800-1860953400@vmicmaryland.org
SUMMARY:Bible Study - Truth Seekers\, Crossroad Church
DESCRIPTION:
URL:https://vmicmaryland.org/event-2/bible-study-truth-seekers-crossroad-church/2028-12-20/
LOCATION:Veterans Ministry Information Center\, 150 Ball Road\, Saint Leonard\, MD\, 20685\, United States
ATTACH;FMTTYPE=image/webp:https://vmicmaryland.org/wp-content/uploads/2025/07/9791b01f-31b2-4635-aebb-f37dec137f76-scaled.webp
END:VEVENT
BEGIN:VEVENT
DTSTART;TZID=America/Halifax:20281226T190000
DTEND;TZID=America/Halifax:20281226T203000
DTSTAMP:20260423T084254
CREATED:20250703T174728Z
LAST-MODIFIED:20250703T175509Z
UID:10000305-1861470000-1861475400@vmicmaryland.org
SUMMARY:Bible Study - Covenant Ministries
DESCRIPTION:
URL:https://vmicmaryland.org/event-2/bible-study/2028-12-26/
LOCATION:Southern Community Center\, 20 Appeal Lane\, Lusby\, Maryland\, 20657
ATTACH;FMTTYPE=image/webp:https://vmicmaryland.org/wp-content/uploads/2025/07/9791b01f-31b2-4635-aebb-f37dec137f76-scaled.webp
END:VEVENT
BEGIN:VEVENT
DTSTART;TZID=America/Halifax:20281227T183000
DTEND;TZID=America/Halifax:20281227T193000
DTSTAMP:20260423T084254
CREATED:20250703T180002Z
LAST-MODIFIED:20250703T180159Z
UID:10000566-1861554600-1861558200@vmicmaryland.org
SUMMARY:Bible Study - Truth Seekers\, Crossroad Church
DESCRIPTION:
URL:https://vmicmaryland.org/event-2/bible-study-truth-seekers-crossroad-church/2028-12-27/
LOCATION:Veterans Ministry Information Center\, 150 Ball Road\, Saint Leonard\, MD\, 20685\, United States
ATTACH;FMTTYPE=image/webp:https://vmicmaryland.org/wp-content/uploads/2025/07/9791b01f-31b2-4635-aebb-f37dec137f76-scaled.webp
END:VEVENT
BEGIN:VEVENT
DTSTART;TZID=America/Halifax:20290102T190000
DTEND;TZID=America/Halifax:20290102T203000
DTSTAMP:20260423T084254
CREATED:20250703T174728Z
LAST-MODIFIED:20250703T175509Z
UID:10000306-1862074800-1862080200@vmicmaryland.org
SUMMARY:Bible Study - Covenant Ministries
DESCRIPTION:
URL:https://vmicmaryland.org/event-2/bible-study/2029-01-02/
LOCATION:Southern Community Center\, 20 Appeal Lane\, Lusby\, Maryland\, 20657
ATTACH;FMTTYPE=image/webp:https://vmicmaryland.org/wp-content/uploads/2025/07/9791b01f-31b2-4635-aebb-f37dec137f76-scaled.webp
END:VEVENT
BEGIN:VEVENT
DTSTART;TZID=America/Halifax:20290103T183000
DTEND;TZID=America/Halifax:20290103T193000
DTSTAMP:20260423T084254
CREATED:20250703T180002Z
LAST-MODIFIED:20250703T180159Z
UID:10000567-1862159400-1862163000@vmicmaryland.org
SUMMARY:Bible Study - Truth Seekers\, Crossroad Church
DESCRIPTION:
URL:https://vmicmaryland.org/event-2/bible-study-truth-seekers-crossroad-church/2029-01-03/
LOCATION:Veterans Ministry Information Center\, 150 Ball Road\, Saint Leonard\, MD\, 20685\, United States
ATTACH;FMTTYPE=image/webp:https://vmicmaryland.org/wp-content/uploads/2025/07/9791b01f-31b2-4635-aebb-f37dec137f76-scaled.webp
END:VEVENT
BEGIN:VEVENT
DTSTART;TZID=America/Halifax:20290106T080000
DTEND;TZID=America/Halifax:20290106T100000
DTSTAMP:20260423T084254
CREATED:20250509T074701Z
LAST-MODIFIED:20250630T133225Z
UID:10000044-1862380800-1862388000@vmicmaryland.org
SUMMARY:Men's Breakfast
DESCRIPTION:Join us every first Saturday of the month in our Fellow Ship hall for a time of good food and great conversation. It’s a casual gathering for men to connect\, share\, and start the weekend with purpose. All are welcome!
URL:https://vmicmaryland.org/event-2/mens-breakfast/2029-01-06/
LOCATION:Veterans Ministry Information Center\, 150 Ball Road\, Saint Leonard\, MD\, 20685\, United States
ATTACH;FMTTYPE=image/jpeg:https://vmicmaryland.org/wp-content/uploads/2025/06/qtq80-jPmGWe-scaled.jpeg
END:VEVENT
BEGIN:VEVENT
DTSTART;TZID=America/Halifax:20290109T190000
DTEND;TZID=America/Halifax:20290109T203000
DTSTAMP:20260423T084254
CREATED:20250703T174728Z
LAST-MODIFIED:20250703T175509Z
UID:10000307-1862679600-1862685000@vmicmaryland.org
SUMMARY:Bible Study - Covenant Ministries
DESCRIPTION:
URL:https://vmicmaryland.org/event-2/bible-study/2029-01-09/
LOCATION:Southern Community Center\, 20 Appeal Lane\, Lusby\, Maryland\, 20657
ATTACH;FMTTYPE=image/webp:https://vmicmaryland.org/wp-content/uploads/2025/07/9791b01f-31b2-4635-aebb-f37dec137f76-scaled.webp
END:VEVENT
BEGIN:VEVENT
DTSTART;TZID=America/Halifax:20290110T183000
DTEND;TZID=America/Halifax:20290110T193000
DTSTAMP:20260423T084254
CREATED:20250703T180002Z
LAST-MODIFIED:20250703T180159Z
UID:10000568-1862764200-1862767800@vmicmaryland.org
SUMMARY:Bible Study - Truth Seekers\, Crossroad Church
DESCRIPTION:
URL:https://vmicmaryland.org/event-2/bible-study-truth-seekers-crossroad-church/2029-01-10/
LOCATION:Veterans Ministry Information Center\, 150 Ball Road\, Saint Leonard\, MD\, 20685\, United States
ATTACH;FMTTYPE=image/webp:https://vmicmaryland.org/wp-content/uploads/2025/07/9791b01f-31b2-4635-aebb-f37dec137f76-scaled.webp
END:VEVENT
BEGIN:VEVENT
DTSTART;TZID=America/Halifax:20290113T093000
DTEND;TZID=America/Halifax:20290113T113000
DTSTAMP:20260423T084254
CREATED:20250613T215336Z
LAST-MODIFIED:20250630T133214Z
UID:10000105-1862991000-1862998200@vmicmaryland.org
SUMMARY:Women's Breakfast
DESCRIPTION:Join us every second Saturday of the month in our Fellow Ship hall for a time of good food and great conversation. It’s a casual gathering for women to connect\, share\, and start the weekend with purpose. All are welcome!
URL:https://vmicmaryland.org/event-2/womens-breakfast/2029-01-13/
LOCATION:Veterans Ministry Information Center\, 150 Ball Road\, Saint Leonard\, MD\, 20685\, United States
ATTACH;FMTTYPE=image/jpeg:https://vmicmaryland.org/wp-content/uploads/2025/06/qtq80-J3bu4q-scaled.jpeg
END:VEVENT
BEGIN:VEVENT
DTSTART;TZID=America/Halifax:20290116T190000
DTEND;TZID=America/Halifax:20290116T203000
DTSTAMP:20260423T084254
CREATED:20250703T174728Z
LAST-MODIFIED:20250703T175509Z
UID:10000308-1863284400-1863289800@vmicmaryland.org
SUMMARY:Bible Study - Covenant Ministries
DESCRIPTION:
URL:https://vmicmaryland.org/event-2/bible-study/2029-01-16/
LOCATION:Southern Community Center\, 20 Appeal Lane\, Lusby\, Maryland\, 20657
ATTACH;FMTTYPE=image/webp:https://vmicmaryland.org/wp-content/uploads/2025/07/9791b01f-31b2-4635-aebb-f37dec137f76-scaled.webp
END:VEVENT
BEGIN:VEVENT
DTSTART;TZID=America/Halifax:20290117T183000
DTEND;TZID=America/Halifax:20290117T193000
DTSTAMP:20260423T084254
CREATED:20250703T180002Z
LAST-MODIFIED:20250703T180159Z
UID:10000569-1863369000-1863372600@vmicmaryland.org
SUMMARY:Bible Study - Truth Seekers\, Crossroad Church
DESCRIPTION:
URL:https://vmicmaryland.org/event-2/bible-study-truth-seekers-crossroad-church/2029-01-17/
LOCATION:Veterans Ministry Information Center\, 150 Ball Road\, Saint Leonard\, MD\, 20685\, United States
ATTACH;FMTTYPE=image/webp:https://vmicmaryland.org/wp-content/uploads/2025/07/9791b01f-31b2-4635-aebb-f37dec137f76-scaled.webp
END:VEVENT
BEGIN:VEVENT
DTSTART;TZID=America/Halifax:20290123T190000
DTEND;TZID=America/Halifax:20290123T203000
DTSTAMP:20260423T084254
CREATED:20250703T174728Z
LAST-MODIFIED:20250703T175509Z
UID:10000309-1863889200-1863894600@vmicmaryland.org
SUMMARY:Bible Study - Covenant Ministries
DESCRIPTION:
URL:https://vmicmaryland.org/event-2/bible-study/2029-01-23/
LOCATION:Southern Community Center\, 20 Appeal Lane\, Lusby\, Maryland\, 20657
ATTACH;FMTTYPE=image/webp:https://vmicmaryland.org/wp-content/uploads/2025/07/9791b01f-31b2-4635-aebb-f37dec137f76-scaled.webp
END:VEVENT
BEGIN:VEVENT
DTSTART;TZID=America/Halifax:20290124T183000
DTEND;TZID=America/Halifax:20290124T193000
DTSTAMP:20260423T084254
CREATED:20250703T180002Z
LAST-MODIFIED:20250703T180159Z
UID:10000570-1863973800-1863977400@vmicmaryland.org
SUMMARY:Bible Study - Truth Seekers\, Crossroad Church
DESCRIPTION:
URL:https://vmicmaryland.org/event-2/bible-study-truth-seekers-crossroad-church/2029-01-24/
LOCATION:Veterans Ministry Information Center\, 150 Ball Road\, Saint Leonard\, MD\, 20685\, United States
ATTACH;FMTTYPE=image/webp:https://vmicmaryland.org/wp-content/uploads/2025/07/9791b01f-31b2-4635-aebb-f37dec137f76-scaled.webp
END:VEVENT
BEGIN:VEVENT
DTSTART;TZID=America/Halifax:20290130T190000
DTEND;TZID=America/Halifax:20290130T203000
DTSTAMP:20260423T084254
CREATED:20250703T174728Z
LAST-MODIFIED:20250703T175509Z
UID:10000310-1864494000-1864499400@vmicmaryland.org
SUMMARY:Bible Study - Covenant Ministries
DESCRIPTION:
URL:https://vmicmaryland.org/event-2/bible-study/2029-01-30/
LOCATION:Southern Community Center\, 20 Appeal Lane\, Lusby\, Maryland\, 20657
ATTACH;FMTTYPE=image/webp:https://vmicmaryland.org/wp-content/uploads/2025/07/9791b01f-31b2-4635-aebb-f37dec137f76-scaled.webp
END:VEVENT
BEGIN:VEVENT
DTSTART;TZID=America/Halifax:20290131T183000
DTEND;TZID=America/Halifax:20290131T193000
DTSTAMP:20260423T084254
CREATED:20250703T180002Z
LAST-MODIFIED:20250703T180159Z
UID:10000571-1864578600-1864582200@vmicmaryland.org
SUMMARY:Bible Study - Truth Seekers\, Crossroad Church
DESCRIPTION:
URL:https://vmicmaryland.org/event-2/bible-study-truth-seekers-crossroad-church/2029-01-31/
LOCATION:Veterans Ministry Information Center\, 150 Ball Road\, Saint Leonard\, MD\, 20685\, United States
ATTACH;FMTTYPE=image/webp:https://vmicmaryland.org/wp-content/uploads/2025/07/9791b01f-31b2-4635-aebb-f37dec137f76-scaled.webp
END:VEVENT
BEGIN:VEVENT
DTSTART;TZID=America/Halifax:20290203T080000
DTEND;TZID=America/Halifax:20290203T100000
DTSTAMP:20260423T084254
CREATED:20250509T074701Z
LAST-MODIFIED:20250630T133225Z
UID:10000045-1864800000-1864807200@vmicmaryland.org
SUMMARY:Men's Breakfast
DESCRIPTION:Join us every first Saturday of the month in our Fellow Ship hall for a time of good food and great conversation. It’s a casual gathering for men to connect\, share\, and start the weekend with purpose. All are welcome!
URL:https://vmicmaryland.org/event-2/mens-breakfast/2029-02-03/
LOCATION:Veterans Ministry Information Center\, 150 Ball Road\, Saint Leonard\, MD\, 20685\, United States
ATTACH;FMTTYPE=image/jpeg:https://vmicmaryland.org/wp-content/uploads/2025/06/qtq80-jPmGWe-scaled.jpeg
END:VEVENT
BEGIN:VEVENT
DTSTART;TZID=America/Halifax:20290206T190000
DTEND;TZID=America/Halifax:20290206T203000
DTSTAMP:20260423T084254
CREATED:20250703T174728Z
LAST-MODIFIED:20250703T175509Z
UID:10000311-1865098800-1865104200@vmicmaryland.org
SUMMARY:Bible Study - Covenant Ministries
DESCRIPTION:
URL:https://vmicmaryland.org/event-2/bible-study/2029-02-06/
LOCATION:Southern Community Center\, 20 Appeal Lane\, Lusby\, Maryland\, 20657
ATTACH;FMTTYPE=image/webp:https://vmicmaryland.org/wp-content/uploads/2025/07/9791b01f-31b2-4635-aebb-f37dec137f76-scaled.webp
END:VEVENT
BEGIN:VEVENT
DTSTART;TZID=America/Halifax:20290207T183000
DTEND;TZID=America/Halifax:20290207T193000
DTSTAMP:20260423T084254
CREATED:20250703T180002Z
LAST-MODIFIED:20250703T180159Z
UID:10000572-1865183400-1865187000@vmicmaryland.org
SUMMARY:Bible Study - Truth Seekers\, Crossroad Church
DESCRIPTION:
URL:https://vmicmaryland.org/event-2/bible-study-truth-seekers-crossroad-church/2029-02-07/
LOCATION:Veterans Ministry Information Center\, 150 Ball Road\, Saint Leonard\, MD\, 20685\, United States
ATTACH;FMTTYPE=image/webp:https://vmicmaryland.org/wp-content/uploads/2025/07/9791b01f-31b2-4635-aebb-f37dec137f76-scaled.webp
END:VEVENT
BEGIN:VEVENT
DTSTART;TZID=America/Halifax:20290210T093000
DTEND;TZID=America/Halifax:20290210T113000
DTSTAMP:20260423T084254
CREATED:20250613T215336Z
LAST-MODIFIED:20250630T133214Z
UID:10000106-1865410200-1865417400@vmicmaryland.org
SUMMARY:Women's Breakfast
DESCRIPTION:Join us every second Saturday of the month in our Fellow Ship hall for a time of good food and great conversation. It’s a casual gathering for women to connect\, share\, and start the weekend with purpose. All are welcome!
URL:https://vmicmaryland.org/event-2/womens-breakfast/2029-02-10/
LOCATION:Veterans Ministry Information Center\, 150 Ball Road\, Saint Leonard\, MD\, 20685\, United States
ATTACH;FMTTYPE=image/jpeg:https://vmicmaryland.org/wp-content/uploads/2025/06/qtq80-J3bu4q-scaled.jpeg
END:VEVENT
BEGIN:VEVENT
DTSTART;TZID=America/Halifax:20290213T190000
DTEND;TZID=America/Halifax:20290213T203000
DTSTAMP:20260423T084254
CREATED:20250703T174728Z
LAST-MODIFIED:20250703T175509Z
UID:10000312-1865703600-1865709000@vmicmaryland.org
SUMMARY:Bible Study - Covenant Ministries
DESCRIPTION:
URL:https://vmicmaryland.org/event-2/bible-study/2029-02-13/
LOCATION:Southern Community Center\, 20 Appeal Lane\, Lusby\, Maryland\, 20657
ATTACH;FMTTYPE=image/webp:https://vmicmaryland.org/wp-content/uploads/2025/07/9791b01f-31b2-4635-aebb-f37dec137f76-scaled.webp
END:VEVENT
BEGIN:VEVENT
DTSTART;TZID=America/Halifax:20290214T183000
DTEND;TZID=America/Halifax:20290214T193000
DTSTAMP:20260423T084254
CREATED:20250703T180002Z
LAST-MODIFIED:20250703T180159Z
UID:10000573-1865788200-1865791800@vmicmaryland.org
SUMMARY:Bible Study - Truth Seekers\, Crossroad Church
DESCRIPTION:
URL:https://vmicmaryland.org/event-2/bible-study-truth-seekers-crossroad-church/2029-02-14/
LOCATION:Veterans Ministry Information Center\, 150 Ball Road\, Saint Leonard\, MD\, 20685\, United States
ATTACH;FMTTYPE=image/webp:https://vmicmaryland.org/wp-content/uploads/2025/07/9791b01f-31b2-4635-aebb-f37dec137f76-scaled.webp
END:VEVENT
BEGIN:VEVENT
DTSTART;TZID=America/Halifax:20290220T190000
DTEND;TZID=America/Halifax:20290220T203000
DTSTAMP:20260423T084254
CREATED:20250703T174728Z
LAST-MODIFIED:20250703T175509Z
UID:10000313-1866308400-1866313800@vmicmaryland.org
SUMMARY:Bible Study - Covenant Ministries
DESCRIPTION:
URL:https://vmicmaryland.org/event-2/bible-study/2029-02-20/
LOCATION:Southern Community Center\, 20 Appeal Lane\, Lusby\, Maryland\, 20657
ATTACH;FMTTYPE=image/webp:https://vmicmaryland.org/wp-content/uploads/2025/07/9791b01f-31b2-4635-aebb-f37dec137f76-scaled.webp
END:VEVENT
BEGIN:VEVENT
DTSTART;TZID=America/Halifax:20290221T183000
DTEND;TZID=America/Halifax:20290221T193000
DTSTAMP:20260423T084254
CREATED:20250703T180002Z
LAST-MODIFIED:20250703T180159Z
UID:10000574-1866393000-1866396600@vmicmaryland.org
SUMMARY:Bible Study - Truth Seekers\, Crossroad Church
DESCRIPTION:
URL:https://vmicmaryland.org/event-2/bible-study-truth-seekers-crossroad-church/2029-02-21/
LOCATION:Veterans Ministry Information Center\, 150 Ball Road\, Saint Leonard\, MD\, 20685\, United States
ATTACH;FMTTYPE=image/webp:https://vmicmaryland.org/wp-content/uploads/2025/07/9791b01f-31b2-4635-aebb-f37dec137f76-scaled.webp
END:VEVENT
END:VCALENDAR