BEGIN:VCALENDAR
VERSION:2.0
PRODID:-//Veterans Ministry Information Center - ECPv6.15.20//NONSGML v1.0//EN
CALSCALE:GREGORIAN
METHOD:PUBLISH
X-WR-CALNAME:Veterans Ministry Information Center
X-ORIGINAL-URL:https://vmicmaryland.org
X-WR-CALDESC:Events for Veterans Ministry Information Center
REFRESH-INTERVAL;VALUE=DURATION:PT1H
X-Robots-Tag:noindex
X-PUBLISHED-TTL:PT1H
BEGIN:VTIMEZONE
TZID:America/Halifax
BEGIN:DAYLIGHT
TZOFFSETFROM:-0400
TZOFFSETTO:-0300
TZNAME:ADT
DTSTART:20240310T060000
END:DAYLIGHT
BEGIN:STANDARD
TZOFFSETFROM:-0300
TZOFFSETTO:-0400
TZNAME:AST
DTSTART:20241103T050000
END:STANDARD
BEGIN:DAYLIGHT
TZOFFSETFROM:-0400
TZOFFSETTO:-0300
TZNAME:ADT
DTSTART:20250309T060000
END:DAYLIGHT
BEGIN:STANDARD
TZOFFSETFROM:-0300
TZOFFSETTO:-0400
TZNAME:AST
DTSTART:20251102T050000
END:STANDARD
BEGIN:DAYLIGHT
TZOFFSETFROM:-0400
TZOFFSETTO:-0300
TZNAME:ADT
DTSTART:20260308T060000
END:DAYLIGHT
BEGIN:STANDARD
TZOFFSETFROM:-0300
TZOFFSETTO:-0400
TZNAME:AST
DTSTART:20261101T050000
END:STANDARD
END:VTIMEZONE
BEGIN:VEVENT
DTSTART;TZID=America/Halifax:20251029T183000
DTEND;TZID=America/Halifax:20251029T193000
DTSTAMP:20260421T195625
CREATED:20250703T180002Z
LAST-MODIFIED:20250703T180159Z
UID:10000401-1761762600-1761766200@vmicmaryland.org
SUMMARY:Bible Study - Truth Seekers\, Crossroad Church
DESCRIPTION:
URL:https://vmicmaryland.org/event-2/bible-study-truth-seekers-crossroad-church/2025-10-29/
LOCATION:Veterans Ministry Information Center\, 150 Ball Road\, Saint Leonard\, MD\, 20685\, United States
ATTACH;FMTTYPE=image/webp:https://vmicmaryland.org/wp-content/uploads/2025/07/9791b01f-31b2-4635-aebb-f37dec137f76-scaled.webp
END:VEVENT
BEGIN:VEVENT
DTSTART;TZID=America/Halifax:20251028T190000
DTEND;TZID=America/Halifax:20251028T203000
DTSTAMP:20260421T195625
CREATED:20250703T174728Z
LAST-MODIFIED:20250703T175509Z
UID:10000140-1761678000-1761683400@vmicmaryland.org
SUMMARY:Bible Study - Covenant Ministries
DESCRIPTION:
URL:https://vmicmaryland.org/event-2/bible-study/2025-10-28/
LOCATION:Southern Community Center\, 20 Appeal Lane\, Lusby\, Maryland\, 20657
ATTACH;FMTTYPE=image/webp:https://vmicmaryland.org/wp-content/uploads/2025/07/9791b01f-31b2-4635-aebb-f37dec137f76-scaled.webp
END:VEVENT
BEGIN:VEVENT
DTSTART;TZID=America/Halifax:20251025T100000
DTEND;TZID=America/Halifax:20251025T140000
DTSTAMP:20260421T195625
CREATED:20250724T205745Z
LAST-MODIFIED:20250811T212142Z
UID:10000646-1761386400-1761400800@vmicmaryland.org
SUMMARY:VMIC Open House
DESCRIPTION:
URL:https://vmicmaryland.org/event-2/vmic-open-house/
LOCATION:Veterans Ministry Information Center\, 150 Ball Road\, Saint Leonard\, MD\, 20685\, United States
ATTACH;FMTTYPE=image/png:https://vmicmaryland.org/wp-content/uploads/2025/05/CX-133419_Veterans-Ministry-Information-Center_Final.png
END:VEVENT
BEGIN:VEVENT
DTSTART;TZID=America/Halifax:20251022T183000
DTEND;TZID=America/Halifax:20251022T193000
DTSTAMP:20260421T195625
CREATED:20250703T180002Z
LAST-MODIFIED:20250703T180159Z
UID:10000400-1761157800-1761161400@vmicmaryland.org
SUMMARY:Bible Study - Truth Seekers\, Crossroad Church
DESCRIPTION:
URL:https://vmicmaryland.org/event-2/bible-study-truth-seekers-crossroad-church/2025-10-22/
LOCATION:Veterans Ministry Information Center\, 150 Ball Road\, Saint Leonard\, MD\, 20685\, United States
ATTACH;FMTTYPE=image/webp:https://vmicmaryland.org/wp-content/uploads/2025/07/9791b01f-31b2-4635-aebb-f37dec137f76-scaled.webp
END:VEVENT
BEGIN:VEVENT
DTSTART;TZID=America/Halifax:20251021T190000
DTEND;TZID=America/Halifax:20251021T203000
DTSTAMP:20260421T195625
CREATED:20250703T174728Z
LAST-MODIFIED:20250703T175509Z
UID:10000139-1761073200-1761078600@vmicmaryland.org
SUMMARY:Bible Study - Covenant Ministries
DESCRIPTION:
URL:https://vmicmaryland.org/event-2/bible-study/2025-10-21/
LOCATION:Southern Community Center\, 20 Appeal Lane\, Lusby\, Maryland\, 20657
ATTACH;FMTTYPE=image/webp:https://vmicmaryland.org/wp-content/uploads/2025/07/9791b01f-31b2-4635-aebb-f37dec137f76-scaled.webp
END:VEVENT
BEGIN:VEVENT
DTSTART;TZID=America/Halifax:20251015T183000
DTEND;TZID=America/Halifax:20251015T193000
DTSTAMP:20260421T195625
CREATED:20250703T180002Z
LAST-MODIFIED:20250703T180159Z
UID:10000399-1760553000-1760556600@vmicmaryland.org
SUMMARY:Bible Study - Truth Seekers\, Crossroad Church
DESCRIPTION:
URL:https://vmicmaryland.org/event-2/bible-study-truth-seekers-crossroad-church/2025-10-15/
LOCATION:Veterans Ministry Information Center\, 150 Ball Road\, Saint Leonard\, MD\, 20685\, United States
ATTACH;FMTTYPE=image/webp:https://vmicmaryland.org/wp-content/uploads/2025/07/9791b01f-31b2-4635-aebb-f37dec137f76-scaled.webp
END:VEVENT
BEGIN:VEVENT
DTSTART;TZID=America/Halifax:20251014T190000
DTEND;TZID=America/Halifax:20251014T203000
DTSTAMP:20260421T195625
CREATED:20250703T174728Z
LAST-MODIFIED:20250703T175509Z
UID:10000138-1760468400-1760473800@vmicmaryland.org
SUMMARY:Bible Study - Covenant Ministries
DESCRIPTION:
URL:https://vmicmaryland.org/event-2/bible-study/2025-10-14/
LOCATION:Southern Community Center\, 20 Appeal Lane\, Lusby\, Maryland\, 20657
ATTACH;FMTTYPE=image/webp:https://vmicmaryland.org/wp-content/uploads/2025/07/9791b01f-31b2-4635-aebb-f37dec137f76-scaled.webp
END:VEVENT
BEGIN:VEVENT
DTSTART;TZID=America/Halifax:20251011T093000
DTEND;TZID=America/Halifax:20251011T113000
DTSTAMP:20260421T195625
CREATED:20250613T215336Z
LAST-MODIFIED:20250630T133214Z
UID:10000066-1760175000-1760182200@vmicmaryland.org
SUMMARY:Women's Breakfast
DESCRIPTION:Join us every second Saturday of the month in our Fellow Ship hall for a time of good food and great conversation. It’s a casual gathering for women to connect\, share\, and start the weekend with purpose. All are welcome!
URL:https://vmicmaryland.org/event-2/womens-breakfast/2025-10-11/
LOCATION:Veterans Ministry Information Center\, 150 Ball Road\, Saint Leonard\, MD\, 20685\, United States
ATTACH;FMTTYPE=image/jpeg:https://vmicmaryland.org/wp-content/uploads/2025/06/qtq80-J3bu4q-scaled.jpeg
END:VEVENT
BEGIN:VEVENT
DTSTART;TZID=America/Halifax:20251008T183000
DTEND;TZID=America/Halifax:20251008T193000
DTSTAMP:20260421T195625
CREATED:20250703T180002Z
LAST-MODIFIED:20250703T180159Z
UID:10000398-1759948200-1759951800@vmicmaryland.org
SUMMARY:Bible Study - Truth Seekers\, Crossroad Church
DESCRIPTION:
URL:https://vmicmaryland.org/event-2/bible-study-truth-seekers-crossroad-church/2025-10-08/
LOCATION:Veterans Ministry Information Center\, 150 Ball Road\, Saint Leonard\, MD\, 20685\, United States
ATTACH;FMTTYPE=image/webp:https://vmicmaryland.org/wp-content/uploads/2025/07/9791b01f-31b2-4635-aebb-f37dec137f76-scaled.webp
END:VEVENT
BEGIN:VEVENT
DTSTART;TZID=America/Halifax:20251007T190000
DTEND;TZID=America/Halifax:20251007T203000
DTSTAMP:20260421T195625
CREATED:20250703T174728Z
LAST-MODIFIED:20250703T175509Z
UID:10000137-1759863600-1759869000@vmicmaryland.org
SUMMARY:Bible Study - Covenant Ministries
DESCRIPTION:
URL:https://vmicmaryland.org/event-2/bible-study/2025-10-07/
LOCATION:Southern Community Center\, 20 Appeal Lane\, Lusby\, Maryland\, 20657
ATTACH;FMTTYPE=image/webp:https://vmicmaryland.org/wp-content/uploads/2025/07/9791b01f-31b2-4635-aebb-f37dec137f76-scaled.webp
END:VEVENT
BEGIN:VEVENT
DTSTART;TZID=America/Halifax:20251004T080000
DTEND;TZID=America/Halifax:20251004T100000
DTSTAMP:20260421T195625
CREATED:20250509T074701Z
LAST-MODIFIED:20250630T133225Z
UID:10000005-1759564800-1759572000@vmicmaryland.org
SUMMARY:Men's Breakfast
DESCRIPTION:Join us every first Saturday of the month in our Fellow Ship hall for a time of good food and great conversation. It’s a casual gathering for men to connect\, share\, and start the weekend with purpose. All are welcome!
URL:https://vmicmaryland.org/event-2/mens-breakfast/2025-10-04/
LOCATION:Veterans Ministry Information Center\, 150 Ball Road\, Saint Leonard\, MD\, 20685\, United States
ATTACH;FMTTYPE=image/jpeg:https://vmicmaryland.org/wp-content/uploads/2025/06/qtq80-jPmGWe-scaled.jpeg
END:VEVENT
BEGIN:VEVENT
DTSTART;TZID=America/Halifax:20251001T183000
DTEND;TZID=America/Halifax:20251001T193000
DTSTAMP:20260421T195625
CREATED:20250703T180002Z
LAST-MODIFIED:20250703T180159Z
UID:10000397-1759343400-1759347000@vmicmaryland.org
SUMMARY:Bible Study - Truth Seekers\, Crossroad Church
DESCRIPTION:
URL:https://vmicmaryland.org/event-2/bible-study-truth-seekers-crossroad-church/2025-10-01/
LOCATION:Veterans Ministry Information Center\, 150 Ball Road\, Saint Leonard\, MD\, 20685\, United States
ATTACH;FMTTYPE=image/webp:https://vmicmaryland.org/wp-content/uploads/2025/07/9791b01f-31b2-4635-aebb-f37dec137f76-scaled.webp
END:VEVENT
BEGIN:VEVENT
DTSTART;TZID=America/Halifax:20250930T190000
DTEND;TZID=America/Halifax:20250930T203000
DTSTAMP:20260421T195625
CREATED:20250703T174728Z
LAST-MODIFIED:20250703T175509Z
UID:10000136-1759258800-1759264200@vmicmaryland.org
SUMMARY:Bible Study - Covenant Ministries
DESCRIPTION:
URL:https://vmicmaryland.org/event-2/bible-study/2025-09-30/
LOCATION:Southern Community Center\, 20 Appeal Lane\, Lusby\, Maryland\, 20657
ATTACH;FMTTYPE=image/webp:https://vmicmaryland.org/wp-content/uploads/2025/07/9791b01f-31b2-4635-aebb-f37dec137f76-scaled.webp
END:VEVENT
BEGIN:VEVENT
DTSTART;TZID=America/Halifax:20250924T183000
DTEND;TZID=America/Halifax:20250924T193000
DTSTAMP:20260421T195625
CREATED:20250703T180002Z
LAST-MODIFIED:20250703T180159Z
UID:10000396-1758738600-1758742200@vmicmaryland.org
SUMMARY:Bible Study - Truth Seekers\, Crossroad Church
DESCRIPTION:
URL:https://vmicmaryland.org/event-2/bible-study-truth-seekers-crossroad-church/2025-09-24/
LOCATION:Veterans Ministry Information Center\, 150 Ball Road\, Saint Leonard\, MD\, 20685\, United States
ATTACH;FMTTYPE=image/webp:https://vmicmaryland.org/wp-content/uploads/2025/07/9791b01f-31b2-4635-aebb-f37dec137f76-scaled.webp
END:VEVENT
BEGIN:VEVENT
DTSTART;TZID=America/Halifax:20250923T190000
DTEND;TZID=America/Halifax:20250923T203000
DTSTAMP:20260421T195626
CREATED:20250703T174728Z
LAST-MODIFIED:20250703T175509Z
UID:10000135-1758654000-1758659400@vmicmaryland.org
SUMMARY:Bible Study - Covenant Ministries
DESCRIPTION:
URL:https://vmicmaryland.org/event-2/bible-study/2025-09-23/
LOCATION:Southern Community Center\, 20 Appeal Lane\, Lusby\, Maryland\, 20657
ATTACH;FMTTYPE=image/webp:https://vmicmaryland.org/wp-content/uploads/2025/07/9791b01f-31b2-4635-aebb-f37dec137f76-scaled.webp
END:VEVENT
BEGIN:VEVENT
DTSTART;TZID=America/Halifax:20250917T183000
DTEND;TZID=America/Halifax:20250917T193000
DTSTAMP:20260421T195626
CREATED:20250703T180002Z
LAST-MODIFIED:20250703T180159Z
UID:10000395-1758133800-1758137400@vmicmaryland.org
SUMMARY:Bible Study - Truth Seekers\, Crossroad Church
DESCRIPTION:
URL:https://vmicmaryland.org/event-2/bible-study-truth-seekers-crossroad-church/2025-09-17/
LOCATION:Veterans Ministry Information Center\, 150 Ball Road\, Saint Leonard\, MD\, 20685\, United States
ATTACH;FMTTYPE=image/webp:https://vmicmaryland.org/wp-content/uploads/2025/07/9791b01f-31b2-4635-aebb-f37dec137f76-scaled.webp
END:VEVENT
BEGIN:VEVENT
DTSTART;TZID=America/Halifax:20250916T190000
DTEND;TZID=America/Halifax:20250916T203000
DTSTAMP:20260421T195626
CREATED:20250703T174728Z
LAST-MODIFIED:20250703T175509Z
UID:10000134-1758049200-1758054600@vmicmaryland.org
SUMMARY:Bible Study - Covenant Ministries
DESCRIPTION:
URL:https://vmicmaryland.org/event-2/bible-study/2025-09-16/
LOCATION:Southern Community Center\, 20 Appeal Lane\, Lusby\, Maryland\, 20657
ATTACH;FMTTYPE=image/webp:https://vmicmaryland.org/wp-content/uploads/2025/07/9791b01f-31b2-4635-aebb-f37dec137f76-scaled.webp
END:VEVENT
BEGIN:VEVENT
DTSTART;TZID=America/Halifax:20250913T093000
DTEND;TZID=America/Halifax:20250913T113000
DTSTAMP:20260421T195626
CREATED:20250613T215336Z
LAST-MODIFIED:20250630T133214Z
UID:10000065-1757755800-1757763000@vmicmaryland.org
SUMMARY:Women's Breakfast
DESCRIPTION:Join us every second Saturday of the month in our Fellow Ship hall for a time of good food and great conversation. It’s a casual gathering for women to connect\, share\, and start the weekend with purpose. All are welcome!
URL:https://vmicmaryland.org/event-2/womens-breakfast/2025-09-13/
LOCATION:Veterans Ministry Information Center\, 150 Ball Road\, Saint Leonard\, MD\, 20685\, United States
ATTACH;FMTTYPE=image/jpeg:https://vmicmaryland.org/wp-content/uploads/2025/06/qtq80-J3bu4q-scaled.jpeg
END:VEVENT
BEGIN:VEVENT
DTSTART;TZID=America/Halifax:20250910T183000
DTEND;TZID=America/Halifax:20250910T193000
DTSTAMP:20260421T195626
CREATED:20250703T180002Z
LAST-MODIFIED:20250703T180159Z
UID:10000394-1757529000-1757532600@vmicmaryland.org
SUMMARY:Bible Study - Truth Seekers\, Crossroad Church
DESCRIPTION:
URL:https://vmicmaryland.org/event-2/bible-study-truth-seekers-crossroad-church/2025-09-10/
LOCATION:Veterans Ministry Information Center\, 150 Ball Road\, Saint Leonard\, MD\, 20685\, United States
ATTACH;FMTTYPE=image/webp:https://vmicmaryland.org/wp-content/uploads/2025/07/9791b01f-31b2-4635-aebb-f37dec137f76-scaled.webp
END:VEVENT
BEGIN:VEVENT
DTSTART;TZID=America/Halifax:20250909T190000
DTEND;TZID=America/Halifax:20250909T203000
DTSTAMP:20260421T195626
CREATED:20250703T174728Z
LAST-MODIFIED:20250703T175509Z
UID:10000133-1757444400-1757449800@vmicmaryland.org
SUMMARY:Bible Study - Covenant Ministries
DESCRIPTION:
URL:https://vmicmaryland.org/event-2/bible-study/2025-09-09/
LOCATION:Southern Community Center\, 20 Appeal Lane\, Lusby\, Maryland\, 20657
ATTACH;FMTTYPE=image/webp:https://vmicmaryland.org/wp-content/uploads/2025/07/9791b01f-31b2-4635-aebb-f37dec137f76-scaled.webp
END:VEVENT
BEGIN:VEVENT
DTSTART;TZID=America/Halifax:20250906T080000
DTEND;TZID=America/Halifax:20250906T100000
DTSTAMP:20260421T195626
CREATED:20250509T074701Z
LAST-MODIFIED:20250630T133225Z
UID:10000004-1757145600-1757152800@vmicmaryland.org
SUMMARY:Men's Breakfast
DESCRIPTION:Join us every first Saturday of the month in our Fellow Ship hall for a time of good food and great conversation. It’s a casual gathering for men to connect\, share\, and start the weekend with purpose. All are welcome!
URL:https://vmicmaryland.org/event-2/mens-breakfast/2025-09-06/
LOCATION:Veterans Ministry Information Center\, 150 Ball Road\, Saint Leonard\, MD\, 20685\, United States
ATTACH;FMTTYPE=image/jpeg:https://vmicmaryland.org/wp-content/uploads/2025/06/qtq80-jPmGWe-scaled.jpeg
END:VEVENT
BEGIN:VEVENT
DTSTART;TZID=America/Halifax:20250903T183000
DTEND;TZID=America/Halifax:20250903T193000
DTSTAMP:20260421T195626
CREATED:20250703T180002Z
LAST-MODIFIED:20250703T180159Z
UID:10000393-1756924200-1756927800@vmicmaryland.org
SUMMARY:Bible Study - Truth Seekers\, Crossroad Church
DESCRIPTION:
URL:https://vmicmaryland.org/event-2/bible-study-truth-seekers-crossroad-church/2025-09-03/
LOCATION:Veterans Ministry Information Center\, 150 Ball Road\, Saint Leonard\, MD\, 20685\, United States
ATTACH;FMTTYPE=image/webp:https://vmicmaryland.org/wp-content/uploads/2025/07/9791b01f-31b2-4635-aebb-f37dec137f76-scaled.webp
END:VEVENT
BEGIN:VEVENT
DTSTART;TZID=America/Halifax:20250902T190000
DTEND;TZID=America/Halifax:20250902T203000
DTSTAMP:20260421T195626
CREATED:20250703T174728Z
LAST-MODIFIED:20250703T175509Z
UID:10000132-1756839600-1756845000@vmicmaryland.org
SUMMARY:Bible Study - Covenant Ministries
DESCRIPTION:
URL:https://vmicmaryland.org/event-2/bible-study/2025-09-02/
LOCATION:Southern Community Center\, 20 Appeal Lane\, Lusby\, Maryland\, 20657
ATTACH;FMTTYPE=image/webp:https://vmicmaryland.org/wp-content/uploads/2025/07/9791b01f-31b2-4635-aebb-f37dec137f76-scaled.webp
END:VEVENT
BEGIN:VEVENT
DTSTART;TZID=America/Halifax:20250827T183000
DTEND;TZID=America/Halifax:20250827T193000
DTSTAMP:20260421T195626
CREATED:20250703T180002Z
LAST-MODIFIED:20250703T180159Z
UID:10000392-1756319400-1756323000@vmicmaryland.org
SUMMARY:Bible Study - Truth Seekers\, Crossroad Church
DESCRIPTION:
URL:https://vmicmaryland.org/event-2/bible-study-truth-seekers-crossroad-church/2025-08-27/
LOCATION:Veterans Ministry Information Center\, 150 Ball Road\, Saint Leonard\, MD\, 20685\, United States
ATTACH;FMTTYPE=image/webp:https://vmicmaryland.org/wp-content/uploads/2025/07/9791b01f-31b2-4635-aebb-f37dec137f76-scaled.webp
END:VEVENT
BEGIN:VEVENT
DTSTART;TZID=America/Halifax:20250826T190000
DTEND;TZID=America/Halifax:20250826T203000
DTSTAMP:20260421T195626
CREATED:20250703T174728Z
LAST-MODIFIED:20250703T175509Z
UID:10000131-1756234800-1756240200@vmicmaryland.org
SUMMARY:Bible Study - Covenant Ministries
DESCRIPTION:
URL:https://vmicmaryland.org/event-2/bible-study/2025-08-26/
LOCATION:Southern Community Center\, 20 Appeal Lane\, Lusby\, Maryland\, 20657
ATTACH;FMTTYPE=image/webp:https://vmicmaryland.org/wp-content/uploads/2025/07/9791b01f-31b2-4635-aebb-f37dec137f76-scaled.webp
END:VEVENT
BEGIN:VEVENT
DTSTART;TZID=America/Halifax:20250820T183000
DTEND;TZID=America/Halifax:20250820T193000
DTSTAMP:20260421T195626
CREATED:20250703T180002Z
LAST-MODIFIED:20250703T180159Z
UID:10000391-1755714600-1755718200@vmicmaryland.org
SUMMARY:Bible Study - Truth Seekers\, Crossroad Church
DESCRIPTION:
URL:https://vmicmaryland.org/event-2/bible-study-truth-seekers-crossroad-church/2025-08-20/
LOCATION:Veterans Ministry Information Center\, 150 Ball Road\, Saint Leonard\, MD\, 20685\, United States
ATTACH;FMTTYPE=image/webp:https://vmicmaryland.org/wp-content/uploads/2025/07/9791b01f-31b2-4635-aebb-f37dec137f76-scaled.webp
END:VEVENT
BEGIN:VEVENT
DTSTART;TZID=America/Halifax:20250819T190000
DTEND;TZID=America/Halifax:20250819T203000
DTSTAMP:20260421T195626
CREATED:20250703T174728Z
LAST-MODIFIED:20250703T175509Z
UID:10000130-1755630000-1755635400@vmicmaryland.org
SUMMARY:Bible Study - Covenant Ministries
DESCRIPTION:
URL:https://vmicmaryland.org/event-2/bible-study/2025-08-19/
LOCATION:Southern Community Center\, 20 Appeal Lane\, Lusby\, Maryland\, 20657
ATTACH;FMTTYPE=image/webp:https://vmicmaryland.org/wp-content/uploads/2025/07/9791b01f-31b2-4635-aebb-f37dec137f76-scaled.webp
END:VEVENT
BEGIN:VEVENT
DTSTART;TZID=America/Halifax:20250813T183000
DTEND;TZID=America/Halifax:20250813T193000
DTSTAMP:20260421T195626
CREATED:20250703T180002Z
LAST-MODIFIED:20250703T180159Z
UID:10000390-1755109800-1755113400@vmicmaryland.org
SUMMARY:Bible Study - Truth Seekers\, Crossroad Church
DESCRIPTION:
URL:https://vmicmaryland.org/event-2/bible-study-truth-seekers-crossroad-church/2025-08-13/
LOCATION:Veterans Ministry Information Center\, 150 Ball Road\, Saint Leonard\, MD\, 20685\, United States
ATTACH;FMTTYPE=image/webp:https://vmicmaryland.org/wp-content/uploads/2025/07/9791b01f-31b2-4635-aebb-f37dec137f76-scaled.webp
END:VEVENT
BEGIN:VEVENT
DTSTART;TZID=America/Halifax:20250812T190000
DTEND;TZID=America/Halifax:20250812T203000
DTSTAMP:20260421T195626
CREATED:20250703T174728Z
LAST-MODIFIED:20250703T175509Z
UID:10000129-1755025200-1755030600@vmicmaryland.org
SUMMARY:Bible Study - Covenant Ministries
DESCRIPTION:
URL:https://vmicmaryland.org/event-2/bible-study/2025-08-12/
LOCATION:Southern Community Center\, 20 Appeal Lane\, Lusby\, Maryland\, 20657
ATTACH;FMTTYPE=image/webp:https://vmicmaryland.org/wp-content/uploads/2025/07/9791b01f-31b2-4635-aebb-f37dec137f76-scaled.webp
END:VEVENT
BEGIN:VEVENT
DTSTART;TZID=America/Halifax:20250809T093000
DTEND;TZID=America/Halifax:20250809T113000
DTSTAMP:20260421T195626
CREATED:20250613T215336Z
LAST-MODIFIED:20250630T133214Z
UID:10000064-1754731800-1754739000@vmicmaryland.org
SUMMARY:Women's Breakfast
DESCRIPTION:Join us every second Saturday of the month in our Fellow Ship hall for a time of good food and great conversation. It’s a casual gathering for women to connect\, share\, and start the weekend with purpose. All are welcome!
URL:https://vmicmaryland.org/event-2/womens-breakfast/2025-08-09/
LOCATION:Veterans Ministry Information Center\, 150 Ball Road\, Saint Leonard\, MD\, 20685\, United States
ATTACH;FMTTYPE=image/jpeg:https://vmicmaryland.org/wp-content/uploads/2025/06/qtq80-J3bu4q-scaled.jpeg
END:VEVENT
END:VCALENDAR